BEGIN:VCALENDAR
PRODID:NingEventWidget-v1
VERSION:2.0
METHOD:PUBLISH
BEGIN:VTIMEZONE
TZID:America/Denver
X-LIC-LOCATION:America/Denver
BEGIN:DAYLIGHT
TZOFFSETFROM:-0700
TZOFFSETTO:-0600
TZNAME:MDT
DTSTART:19700308T020000
RRULE:FREQ=YEARLY;BYMONTH=3;BYDAY=2SU
END:DAYLIGHT
BEGIN:STANDARD
TZOFFSETFROM:-0600
TZOFFSETTO:-0700
TZNAME:MST
DTSTART:19701101T020000
RRULE:FREQ=YEARLY;BYMONTH=11;BYDAY=1SU
END:STANDARD
END:VTIMEZONE
BEGIN:VEVENT
UID:2021996:Event:160546
DTSTAMP:20260420T081643Z
SUMMARY:6th Annual African Evening
DESCRIPTION:Please Join the Rocky Mountain Chapter of Nurturing Minds 
 in this benefit evening for the Sega Girls School in Tanzania\nAll pro
 ceeds support the Sega Girls School, a residential school in Tanzania 
 that educates vulnerable girls who are unable to attend school due to 
 extreme poverty.\nDinner, Auction, Dancing, and cash bar\nTickets $75 
 prior to event/ $85 at the door\n\nfor ? contact Kerry Jacobs 303-359-
 8120\n\nFor more information visit https://www.mytowncolorado.com/even
 ts/6th-annual-african-evening
DTSTART;TZID=America/Denver:20141115T180000
DTEND;TZID=America/Denver:20141115T230000
CATEGORIES:fundraiser, benefit
LOCATION:Boulder Country Club
WEBSITE:http://www.nurturingmindsinafrica.org
URL:http://www.nurturingmindsinafrica.org
CONTACT:303-358-8120
ORGANIZER:Rocky Mountain chapter of Nurturing Minds
ATTACH;FMTTYPE="image/jpeg":http://storage.ning.com/topology/rest/1.0/
 file/get/1051724155?profile=original
ATTENDEE;ROLE=REQ-PARTICIPANT;PARTSTAT=ACCEPTED;RSVP=TRUE;CN="priscill
 a Slocum Lacy":https://www.mytowncolorado.com/profile/priscillaSlocumL
 acy
END:VEVENT
END:VCALENDAR
