BEGIN:VCALENDAR
PRODID:NingEventWidget-v1
VERSION:2.0
METHOD:PUBLISH
BEGIN:VTIMEZONE
TZID:America/Denver
X-LIC-LOCATION:America/Denver
BEGIN:DAYLIGHT
TZOFFSETFROM:-0700
TZOFFSETTO:-0600
TZNAME:MDT
DTSTART:19700308T020000
RRULE:FREQ=YEARLY;BYMONTH=3;BYDAY=2SU
END:DAYLIGHT
BEGIN:STANDARD
TZOFFSETFROM:-0600
TZOFFSETTO:-0700
TZNAME:MST
DTSTART:19701101T020000
RRULE:FREQ=YEARLY;BYMONTH=11;BYDAY=1SU
END:STANDARD
END:VTIMEZONE
BEGIN:VEVENT
UID:2021996:Event:161063
DTSTAMP:20260420T131836Z
SUMMARY:6th Annual Frank Shorter RACE4Kids' Health 5K & Health Odyssey
  Expo
DESCRIPTION:Whole Foods Joins Healthy Learning Paths for Frank Shorter
  RACE4Kids' Health 5K & Health Odyssey Expo\nLet's be outrageous for k
 ids! Â Whole Foods, Healthy Learning Paths, and Olympic Gold Medalist 
 Frank Shorter are on a mission. Â We want all kids to be healthy and h
 appy. Â Join us to make your 5K time for the BolderBoulder, enjoy the 
 unique Health Odyssey Expo, Where Science, Engineering and Health Coll
 ide for Kids, and particpate in fun family events.Â Â Compete in the n
 ew Mazzola's Miracle Mile Relay with a 4 person team! Young runners wo
 n't want to miss the Diaper Dash and Buzz. Â Come dressed in your favo
 rite costume and you could win a prize!Â \nProceeds benefitÂ HealthyÂ 
 Learning Paths, a 501(c)(3) nonprofit that empowers children and famil
 ies to lead healthy lives through ourÂ Be Well, Learn WellÂ school pro
 gram. Â Let's makeÂ Healthy, the New Happy for Kids!\n\nFASTÂ 5K cours
 e in Broomfield around 1STBANK CENTER. Â RunnersÂ of all levels have a
  chance to improve their time. Â Perfect beat for the entire family. Â
   Stroller and wheelchair friendly! Â USATF certified, BolderBoulderÂ 
 qualifier, and chip timed.\n\nRegister here:Â http://www.runningguru.c
 om/EventInformation.asp?eID=12791\n\nFor more information visit https:
 //www.mytowncolorado.com/events/6th-annual-frank-shorter-race4kids-hea
 lth-5k-health-odyssey-expo
DTSTART;TZID=America/Denver:20150412T080000
DTEND;TZID=America/Denver:20150412T120000
CATEGORIES:5k, race, fundraiser
LOCATION:1STBANK Center
WEBSITE:http://www.runningguru.com/EventInformation.asp?eID=12791
URL:http://www.runningguru.com/EventInformation.asp?eID=12791
CONTACT:3034647191
ORGANIZER:Healthy Learning Paths
ATTACH;FMTTYPE="image/jpeg":http://storage.ning.com/topology/rest/1.0/
 file/get/1051724221?profile=original
ATTENDEE;ROLE=REQ-PARTICIPANT;PARTSTAT=ACCEPTED;RSVP=TRUE;CN="Maria Jo
 se Torres":https://www.mytowncolorado.com/profile/MariaJoseTorres
END:VEVENT
END:VCALENDAR
