BEGIN:VCALENDAR
PRODID:NingEventWidget-v1
VERSION:2.0
METHOD:PUBLISH
BEGIN:VTIMEZONE
TZID:America/Denver
X-LIC-LOCATION:America/Denver
BEGIN:DAYLIGHT
TZOFFSETFROM:-0700
TZOFFSETTO:-0600
TZNAME:MDT
DTSTART:19700308T020000
RRULE:FREQ=YEARLY;BYMONTH=3;BYDAY=2SU
END:DAYLIGHT
BEGIN:STANDARD
TZOFFSETFROM:-0600
TZOFFSETTO:-0700
TZNAME:MST
DTSTART:19701101T020000
RRULE:FREQ=YEARLY;BYMONTH=11;BYDAY=1SU
END:STANDARD
END:VTIMEZONE
BEGIN:VEVENT
UID:2021996:Event:162095
DTSTAMP:20260419T212553Z
SUMMARY:A Day of Meditation
DESCRIPTION:Join us for a day long sampling of different meditation st
 yles, including instruction and a talk on the health benefits. \nAll 
 are welcome to this Free event, no meditation experience is necessary.
 \nDay begins with Singing Bowls 9:30\nTalk on benefits of meditation 1
 0:00 -10:50\nDrop–in sitting and walking meditation 11:00 – 3:50\n
 (Meditation instruction available)\nClose with community singing 4:00 
 – 4:20\n\nFor more information visit https://www.mytowncolorado.com/
 events/a-day-of-meditation
DTSTART;TZID=America/Denver:20150124T093000
DTEND;TZID=America/Denver:20150124T163000
CATEGORIES:community, health, meditation
LOCATION:Longmont Buddhist Temple
WEBSITE:http://www.piplongmont.org
URL:http://www.piplongmont.org
CONTACT:303-678-1560
ORGANIZER:Practices for Inner Peace
ATTACH;FMTTYPE="image/jpeg":http://storage.ning.com/topology/rest/1.0/
 file/get/1051720046?profile=original
ATTENDEE;ROLE=REQ-PARTICIPANT;PARTSTAT=ACCEPTED;RSVP=TRUE;CN="Susan Bo
 rutzki":https://www.mytowncolorado.com/profile/SusanBorutzki
END:VEVENT
END:VCALENDAR
