BEGIN:VCALENDAR
PRODID:NingEventWidget-v1
VERSION:2.0
METHOD:PUBLISH
BEGIN:VTIMEZONE
TZID:America/Denver
X-LIC-LOCATION:America/Denver
BEGIN:DAYLIGHT
TZOFFSETFROM:-0700
TZOFFSETTO:-0600
TZNAME:MDT
DTSTART:19700308T020000
RRULE:FREQ=YEARLY;BYMONTH=3;BYDAY=2SU
END:DAYLIGHT
BEGIN:STANDARD
TZOFFSETFROM:-0600
TZOFFSETTO:-0700
TZNAME:MST
DTSTART:19701101T020000
RRULE:FREQ=YEARLY;BYMONTH=11;BYDAY=1SU
END:STANDARD
END:VTIMEZONE
BEGIN:VEVENT
UID:2021996:Event:273864
DTSTAMP:20260423T014426Z
SUMMARY:Alignment Refinement: Meditation
DESCRIPTION:Alignment Refinement With Dr. Mary + StephanieSaturday, Ma
 y 11 — 2:30pm-3:45pm\nDescription: During class it can be hard to wo
 rkshop a pose so we are offering the opportunity to come in with a pos
 ture you have questions about and be able to workshop it, whether it's
  a simple down dog or a more advanced posture like handstand. There wi
 ll be two teachers in the room to show correct alignment and point thi
 ngs out on a body everyone can see and so the group can split up and w
 ork on different poses.\n\nThis class we will be focusing on Meditatio
 n. What is Meditation? Why do we Meditate? How do you Meditate comfort
 ably?\n\nPrice: $27 Drop-inIncluded with membership\n\nFor more inform
 ation visit https://www.mytowncolorado.com/events/alignment-refinement
 -meditation
DTSTART;TZID=America/Denver:20240511T143000
DTEND;TZID=America/Denver:20240511T154500
CATEGORIES:workshop
LOCATION:Yoga Pearl
WEBSITE:https://clients.mindbodyonline.com/classic/ws?studioid=182708&
 amp;stype=-7&amp;sView=day&amp;sLoc=0&amp;sTrn=100000274&amp;date=05/1
 1/24
URL:https://clients.mindbodyonline.com/classic/ws?studioid=182708&amp;
 stype=-7&amp;sView=day&amp;sLoc=0&amp;sTrn=100000274&amp;date=05/11/24
CONTACT:
ORGANIZER;CN="Yoga Pearl":https://www.mytowncolorado.com/profile/YogaP
 earl
ATTACH;FMTTYPE="image/jpeg":https://storage.ning.com/topology/rest/1.0
 /file/get/12491760856?profile=original
ATTENDEE;ROLE=REQ-PARTICIPANT;PARTSTAT=ACCEPTED;RSVP=TRUE;CN="Yoga Pea
 rl":https://www.mytowncolorado.com/profile/YogaPearl
END:VEVENT
END:VCALENDAR
