BEGIN:VCALENDAR
PRODID:NingEventWidget-v1
VERSION:2.0
METHOD:PUBLISH
BEGIN:VTIMEZONE
TZID:America/Denver
X-LIC-LOCATION:America/Denver
BEGIN:DAYLIGHT
TZOFFSETFROM:-0700
TZOFFSETTO:-0600
TZNAME:MDT
DTSTART:19700308T020000
RRULE:FREQ=YEARLY;BYMONTH=3;BYDAY=2SU
END:DAYLIGHT
BEGIN:STANDARD
TZOFFSETFROM:-0600
TZOFFSETTO:-0700
TZNAME:MST
DTSTART:19701101T020000
RRULE:FREQ=YEARLY;BYMONTH=11;BYDAY=1SU
END:STANDARD
END:VTIMEZONE
BEGIN:VEVENT
UID:2021996:Event:161838
DTSTAMP:20260419T192246Z
SUMMARY:An Evening of Dancing Horses
DESCRIPTION:January 21 & 22 – 7:30pm\nNational Western Events Center
 \nNationalwestern.com, use promo code: denverbrass\nor call 303-295-29
 79, for a $19 ticket!\nAn Evening of Dancing Horses ® is packed full 
 of formal dressage, freestyle reining, drill elements and plenty more 
 equestrian disciplines. Plus, it’s all choreographed to the music of
  the Denver Brass. The popular National Western attraction features wo
 rld-class horses, equestrians and musicians.\n\nFor more information v
 isit https://www.mytowncolorado.com/events/an-evening-of-dancing-horse
 s
DTSTART;TZID=America/Denver:20150121T193000
DTEND;TZID=America/Denver:20150122T213000
CATEGORIES:national, western, stock, show
LOCATION:National Western Complex
WEBSITE:http://nationalwestern.com/horse-shows/
URL:http://nationalwestern.com/horse-shows/
CONTACT:303-295-2979
ORGANIZER:National Western Stock Show
ATTACH;FMTTYPE="image/jpeg":http://storage.ning.com/topology/rest/1.0/
 file/get/1051722557?profile=original
ATTENDEE;ROLE=REQ-PARTICIPANT;PARTSTAT=ACCEPTED;RSVP=TRUE;CN="The Denv
 er Brass":https://www.mytowncolorado.com/profile/TheDenverBrass
END:VEVENT
END:VCALENDAR
