BEGIN:VCALENDAR
PRODID:NingEventWidget-v1
VERSION:2.0
METHOD:PUBLISH
BEGIN:VTIMEZONE
TZID:America/Denver
X-LIC-LOCATION:America/Denver
BEGIN:DAYLIGHT
TZOFFSETFROM:-0700
TZOFFSETTO:-0600
TZNAME:MDT
DTSTART:19700308T020000
RRULE:FREQ=YEARLY;BYMONTH=3;BYDAY=2SU
END:DAYLIGHT
BEGIN:STANDARD
TZOFFSETFROM:-0600
TZOFFSETTO:-0700
TZNAME:MST
DTSTART:19701101T020000
RRULE:FREQ=YEARLY;BYMONTH=11;BYDAY=1SU
END:STANDARD
END:VTIMEZONE
BEGIN:VEVENT
UID:2021996:Event:162449
DTSTAMP:20260419T230542Z
SUMMARY:Author Chat with R. S. Markel
DESCRIPTION:Join R. S. Markel at Boulder's \"Childish Things Consig
 nment\" for an Author Chat on Saturday, February 7th from 10:30am to 
 noon.\nR. S. Markel, author of the literary adventure series, \"Lill
 ybeth and Hinsberth\", is excited to spend a morning with you for a c
 hat about his journey as an author, and the rediscovery of his love of
  illustrating.He will have both heartwarming novels (\"Lillybeth and H
 insberth: The Edges of Things\" and \"Lillybeth and Hinsberth: The E
 ssence of Things\", as well as matted illustrations of his book's belo
 ved characters, for purchase.Thank you! I sincerely hope to see you at
  \"Childish Things Consignment\" and consider taking a moment to vis
 it my website to learn more about me as an author/illustrator, as well
  as my first two novels!http://www.rsmarkel.com.\n\nFor more informati
 on visit https://www.mytowncolorado.com/events/author-chat-with-r-s-ma
 rkel
DTSTART;TZID=America/Denver:20150207T103000
DTEND;TZID=America/Denver:20150207T120000
CATEGORIES:author, chat
LOCATION:Childish Things Consignment
WEBSITE:http://www.childishthingsconsign.com/
URL:http://www.childishthingsconsign.com/
CONTACT:720-323-5444
ORGANIZER:R. S. Markel and the wonderful people at \"Childish Things C
 onsignment\"
ATTACH;FMTTYPE="image/jpeg":
ATTENDEE;ROLE=REQ-PARTICIPANT;PARTSTAT=ACCEPTED;RSVP=TRUE;CN="R. S. Ma
 rkel":https://www.mytowncolorado.com/profile/RSMarkel
END:VEVENT
END:VCALENDAR
