BEGIN:VCALENDAR
PRODID:NingEventWidget-v1
VERSION:2.0
METHOD:PUBLISH
BEGIN:VTIMEZONE
TZID:America/Denver
X-LIC-LOCATION:America/Denver
BEGIN:DAYLIGHT
TZOFFSETFROM:-0700
TZOFFSETTO:-0600
TZNAME:MDT
DTSTART:19700308T020000
RRULE:FREQ=YEARLY;BYMONTH=3;BYDAY=2SU
END:DAYLIGHT
BEGIN:STANDARD
TZOFFSETFROM:-0600
TZOFFSETTO:-0700
TZNAME:MST
DTSTART:19701101T020000
RRULE:FREQ=YEARLY;BYMONTH=11;BYDAY=1SU
END:STANDARD
END:VTIMEZONE
BEGIN:VEVENT
UID:2021996:Event:270257
DTSTAMP:20260420T004635Z
SUMMARY:Book launch and book signing
DESCRIPTION:Catherine March, former owner of Thirstdays Networking gro
 up and the P&C Insurance Agency, has turned her talents to a new ventu
 re. Writing, illustrating, and publishing books.\nCome celebrate with 
 us as she has her first book signing at the Barnes and Noble bookstore
  in Boulder. She will be showcasing her cookbook “The Vegan Artist. 
 Plant-based Is Easy” cookbook, plus her first children’s book “P
 lant Powered Polly Visits the Farm”\n\nFor more information visit ht
 tps://www.mytowncolorado.com/events/book-launch-and-book-signing
DTSTART;TZID=America/Denver:20230519T160000
DTEND;TZID=America/Denver:20230519T200000
CATEGORIES:author, event
LOCATION:Barnes and Noble Boulder
WEBSITE:https://theveganartist.com/
URL:https://theveganartist.com/
CONTACT:
ORGANIZER;CN="Catherine March":https://www.mytowncolorado.com/profile/
 CatherineMarch827
ATTACH;FMTTYPE="image/jpeg":https://storage.ning.com/topology/rest/1.0
 /file/get/11074916492?profile=original
ATTENDEE;ROLE=REQ-PARTICIPANT;PARTSTAT=ACCEPTED;RSVP=TRUE;CN="Catherin
 e March":https://www.mytowncolorado.com/profile/CatherineMarch827
END:VEVENT
END:VCALENDAR
