BEGIN:VCALENDAR
PRODID:NingEventWidget-v1
VERSION:2.0
METHOD:PUBLISH
BEGIN:VTIMEZONE
TZID:America/Denver
X-LIC-LOCATION:America/Denver
BEGIN:DAYLIGHT
TZOFFSETFROM:-0700
TZOFFSETTO:-0600
TZNAME:MDT
DTSTART:19700308T020000
RRULE:FREQ=YEARLY;BYMONTH=3;BYDAY=2SU
END:DAYLIGHT
BEGIN:STANDARD
TZOFFSETFROM:-0600
TZOFFSETTO:-0700
TZNAME:MST
DTSTART:19701101T020000
RRULE:FREQ=YEARLY;BYMONTH=11;BYDAY=1SU
END:STANDARD
END:VTIMEZONE
BEGIN:VEVENT
UID:2021996:Event:177445
DTSTAMP:20260421T044423Z
SUMMARY:Boulder Potters' Guild 2016 Fall Artists' Reception
DESCRIPTION:We invite you to meet the artists of the Boulder Potters G
 uild, who will sell their best work at our 2016 Fall Show and Sale.  
 Art work will include functional, decorative, and sculptural ceramics,
  jewelry, textiles, fused glass, silk painting, and embossed paper.  
 Our artists work hard all year long to express themselves, and you can
  meet them on Friday night from 6:00pm-8:00pm.  Hope to see you there
 !  \n\nFor more information visit https://www.mytowncolorado.com/eve
 nts/boulder-potters-guild-2016-fall-artists-reception
DTSTART;TZID=America/Denver:20161111T180000
DTEND;TZID=America/Denver:20161111T200000
CATEGORIES:"artists'", reception
LOCATION:Boulder County Fairgrounds
WEBSITE:http://www.bouldercounty.org/os/parks/pages/fairgrounds.aspx
URL:http://www.bouldercounty.org/os/parks/pages/fairgrounds.aspx
CONTACT:3034470310
ORGANIZER:Boulder Potters' Guild
ATTACH;FMTTYPE="image/jpeg":
ATTENDEE;ROLE=REQ-PARTICIPANT;PARTSTAT=ACCEPTED;RSVP=TRUE;CN="Ellen Ha
 rdman":https://www.mytowncolorado.com/profile/EllenHardman
END:VEVENT
END:VCALENDAR
