BEGIN:VCALENDAR
PRODID:NingEventWidget-v1
VERSION:2.0
METHOD:PUBLISH
BEGIN:VTIMEZONE
TZID:America/Denver
X-LIC-LOCATION:America/Denver
BEGIN:DAYLIGHT
TZOFFSETFROM:-0700
TZOFFSETTO:-0600
TZNAME:MDT
DTSTART:19700308T020000
RRULE:FREQ=YEARLY;BYMONTH=3;BYDAY=2SU
END:DAYLIGHT
BEGIN:STANDARD
TZOFFSETFROM:-0600
TZOFFSETTO:-0700
TZNAME:MST
DTSTART:19701101T020000
RRULE:FREQ=YEARLY;BYMONTH=11;BYDAY=1SU
END:STANDARD
END:VTIMEZONE
BEGIN:VEVENT
UID:2021996:Event:177538
DTSTAMP:20260421T061230Z
SUMMARY:Boulder Potters' Guild 2016 Fall Show and Sale
DESCRIPTION:More than 50 members of the Boulder Potters’ Guild will 
 exhibit and sell their best and most recent work at the Boulder County
  Fairgrounds in Longmont, CO.  The 2016 Fall Show and Sale will inclu
 de functional, decorative, and sculptural ceramics as well as jewelry,
  textiles, fused glass, silk painting, and embossed paper.  There wil
 l be ongoing demonstrations, daily raffle drawings, and the opportunit
 y to meet local artists and purchase beautiful handmade objects.  Pro
 ceeds from this sale help to support the facilities, outreach, and edu
 cational activities of the Boulder Potters’ Guild.  This year, seve
 ral new Guild members will be showing for the first time.  Join us fo
 r a special artists’ reception on Friday evening from 6-8 pm.    
 \n\nFor more information visit https://www.mytowncolorado.com/events/b
 oulder-potters-guild-2016-fall-show-and-sale
DTSTART;TZID=America/Denver:20161110T100000
DTEND;TZID=America/Denver:20161113T160000
CATEGORIES:show, and, sale
LOCATION:Boulder County Fairgrounds
WEBSITE:http://www.bouldercounty.org/os/parks/pages/fairgrounds.aspx
URL:http://www.bouldercounty.org/os/parks/pages/fairgrounds.aspx
CONTACT:303-447-0310
ORGANIZER:Boulder Potters' Guild
ATTACH;FMTTYPE="image/jpeg":
ATTENDEE;ROLE=REQ-PARTICIPANT;PARTSTAT=ACCEPTED;RSVP=TRUE;CN="Ellen Ha
 rdman":https://www.mytowncolorado.com/profile/EllenHardman
END:VEVENT
END:VCALENDAR
