BEGIN:VCALENDAR
PRODID:NingEventWidget-v1
VERSION:2.0
METHOD:PUBLISH
BEGIN:VTIMEZONE
TZID:America/Denver
X-LIC-LOCATION:America/Denver
BEGIN:DAYLIGHT
TZOFFSETFROM:-0700
TZOFFSETTO:-0600
TZNAME:MDT
DTSTART:19700308T020000
RRULE:FREQ=YEARLY;BYMONTH=3;BYDAY=2SU
END:DAYLIGHT
BEGIN:STANDARD
TZOFFSETFROM:-0600
TZOFFSETTO:-0700
TZNAME:MST
DTSTART:19701101T020000
RRULE:FREQ=YEARLY;BYMONTH=11;BYDAY=1SU
END:STANDARD
END:VTIMEZONE
BEGIN:VEVENT
UID:2021996:Event:270992
DTSTAMP:20260419T065919Z
SUMMARY:Celebration at the Ranch
DESCRIPTION:Come share in a fun-tastic community event with Adam’s C
 amp on October 8, 2023, from 12:00 PM — 3:00 PM Mountain Time (US & 
 Canada), at Promise Ranch Therapies and Recreation in Parker, Colorado
 .\n\nJoin the Adam’s Camp Community for a fun-filled day to celebrat
 e with campers, families, and newcomers. This community event is a fan
 tastic time for everyone and an excellent chance to build connections,
  and friendships, and celebrate in the way that Adam’s Camp does bes
 t: with an eye for adventure while focusing on developing strengths an
 d realizing potential.\n\nGet your tickets ahead of the big event and 
 save!\nhttps://adamscamp.networkforgood.com/events/55733-2023-celebrat
 ion-at-the-ranch ;$5 for individual tickets$20 for a family (up to 6)
 \n\nFor more information visit https://www.mytowncolorado.com/events/c
 elebration-at-the-ranch
DTSTART;TZID=America/Denver:20231008T120000
DTEND;TZID=America/Denver:20231008T150000
CATEGORIES:kids, "&amp", family, community, celebration, special, need
 s
LOCATION:Promise Ranch Therapies and Recreation
WEBSITE:https://www.google.com/search?q=11892+Hilltop+Rd%2C+Parker%2C+
 CO+80134&amp;rlz=1C1JZAP_enUS931US931&amp;oq=11892+Hilltop+Rd%2C+Parke
 r%2C+CO+80134&amp;aqs=chrome..69i57j33i299.368j0j7&amp;sourceid=chrome
 &amp;ie=UTF-8
URL:https://www.google.com/search?q=11892+Hilltop+Rd%2C+Parker%2C+CO+8
 0134&amp;rlz=1C1JZAP_enUS931US931&amp;oq=11892+Hilltop+Rd%2C+Parker%2C
 +CO+80134&amp;aqs=chrome..69i57j33i299.368j0j7&amp;sourceid=chrome&amp
 ;ie=UTF-8
CONTACT:
ORGANIZER;CN="Adam's Camp Marketing":https://www.mytowncolorado.com/pr
 ofile/KarliSteffy
ATTACH;FMTTYPE="image/jpeg":https://storage.ning.com/topology/rest/1.0
 /file/get/12161315264?profile=original
ATTENDEE;ROLE=REQ-PARTICIPANT;PARTSTAT=ACCEPTED;RSVP=TRUE;CN="Adam's C
 amp Marketing":https://www.mytowncolorado.com/profile/KarliSteffy
END:VEVENT
END:VCALENDAR
