BEGIN:VCALENDAR
PRODID:NingEventWidget-v1
VERSION:2.0
METHOD:PUBLISH
BEGIN:VTIMEZONE
TZID:America/Denver
X-LIC-LOCATION:America/Denver
BEGIN:DAYLIGHT
TZOFFSETFROM:-0700
TZOFFSETTO:-0600
TZNAME:MDT
DTSTART:19700308T020000
RRULE:FREQ=YEARLY;BYMONTH=3;BYDAY=2SU
END:DAYLIGHT
BEGIN:STANDARD
TZOFFSETFROM:-0600
TZOFFSETTO:-0700
TZNAME:MST
DTSTART:19701101T020000
RRULE:FREQ=YEARLY;BYMONTH=11;BYDAY=1SU
END:STANDARD
END:VTIMEZONE
BEGIN:VEVENT
UID:2021996:Event:164051
DTSTAMP:20260420T010610Z
SUMMARY:“Celtic Storm” with Rocky Mountain Brassworks
DESCRIPTION:Rocky Mountain Brassworks continues its concert season wit
 h the popular “Celtic Storm,” featuring the Red, Plaid and Blue ba
 gpipe band as well as the talented Celtic dancers from Moriarity Moffi
 tt Dance and the Happy Feet Scottish Dance Academy.  By popular deman
 d, Denver’s only authentic brass band will perform at the Broomfield
  Auditorium on St. Patrick’s Day, March 17th at 7:30pm.  Enjoy your
  favorite Celtic music selections including Celtic Dream, Drums of Thu
 nder, Ardross Castle and Amazing Grace.\nThe Broomfield Auditorium is 
 located at 3 Community Park Road in Broomfield, just north of 120th Av
 enue between Main and Lamar streets.  The box office opens one hour p
 rior to show time.  Tickets can be purchased at the door or in advanc
 e through www.rockymountainbrassworks.org or (720) 887-2371.  Ticket 
 prices are; $15 Adults, $10 Seniors & Students, and $5 Children. All s
 eats are general admission.\nSave 25% off the total ticket price by pu
 rchasing ten or more tickets to this concert.  Tickets must be purcha
 sed in advance through RMBrassworks@live.com or (303) 476-0560.\n\nFor
  more information visit https://www.mytowncolorado.com/events/celtic-s
 torm-with-rocky-mountain-brassworks
DTSTART;TZID=America/Denver:20150317T193000
DTEND;TZID=America/Denver:20150317T213000
CATEGORIES:concert
LOCATION:Broomfield Auditorium
WEBSITE:
URL:
CONTACT:303-476-0560
ORGANIZER;CN="Rocky Mountain Brassworks":https://www.mytowncolorado.co
 m/profile/RockyMountainBrassworks
ATTACH;FMTTYPE="image/jpeg":
ATTENDEE;ROLE=REQ-PARTICIPANT;PARTSTAT=ACCEPTED;RSVP=TRUE;CN="Rocky Mo
 untain Brassworks":https://www.mytowncolorado.com/profile/RockyMountai
 nBrassworks
END:VEVENT
END:VCALENDAR
