BEGIN:VCALENDAR
PRODID:NingEventWidget-v1
VERSION:2.0
METHOD:PUBLISH
BEGIN:VTIMEZONE
TZID:America/Denver
X-LIC-LOCATION:America/Denver
BEGIN:DAYLIGHT
TZOFFSETFROM:-0700
TZOFFSETTO:-0600
TZNAME:MDT
DTSTART:19700308T020000
RRULE:FREQ=YEARLY;BYMONTH=3;BYDAY=2SU
END:DAYLIGHT
BEGIN:STANDARD
TZOFFSETFROM:-0600
TZOFFSETTO:-0700
TZNAME:MST
DTSTART:19701101T020000
RRULE:FREQ=YEARLY;BYMONTH=11;BYDAY=1SU
END:STANDARD
END:VTIMEZONE
BEGIN:VEVENT
UID:2021996:Event:164189
DTSTAMP:20260420T011242Z
SUMMARY:Coal Creek Women's Golf League Kickoff Meeting
DESCRIPTION:Play A Little or Play A Lot! League golf is the most fun 
 way to make new golf friends and improve your game. We welcome new mem
 bers of ALL abilities. Please come join us at our annual Spring Meetin
 g season kickoff. We will discuss everything you need to know about ou
 r league. Complimentary refreshment provided!\n\nFor more information 
 visit https://www.mytowncolorado.com/events/coal-creek-women-s-golf-le
 ague-kickoff-meeting
DTSTART;TZID=America/Denver:20150312T180000
DTEND;TZID=America/Denver:20150312T193000
CATEGORIES:meeting
LOCATION:Coal Creek Golf Course
WEBSITE:http://www.ghin.com/eClubhouse/eClubHome.aspx?cid=881
URL:http://www.ghin.com/eClubhouse/eClubHome.aspx?cid=881
CONTACT:303.449.8849
ORGANIZER;CN="Caren Paul":https://www.mytowncolorado.com/profile/Caren
 Paul
ATTACH;FMTTYPE="image/jpeg":http://storage.ning.com/topology/rest/1.0/
 file/get/1051721945?profile=original
ATTENDEE;ROLE=REQ-PARTICIPANT;PARTSTAT=ACCEPTED;RSVP=TRUE;CN="Caren Pa
 ul":https://www.mytowncolorado.com/profile/CarenPaul
END:VEVENT
END:VCALENDAR
