BEGIN:VCALENDAR
PRODID:NingEventWidget-v1
VERSION:2.0
METHOD:PUBLISH
BEGIN:VTIMEZONE
TZID:America/Denver
X-LIC-LOCATION:America/Denver
BEGIN:DAYLIGHT
TZOFFSETFROM:-0700
TZOFFSETTO:-0600
TZNAME:MDT
DTSTART:19700308T020000
RRULE:FREQ=YEARLY;BYMONTH=3;BYDAY=2SU
END:DAYLIGHT
BEGIN:STANDARD
TZOFFSETFROM:-0600
TZOFFSETTO:-0700
TZNAME:MST
DTSTART:19701101T020000
RRULE:FREQ=YEARLY;BYMONTH=11;BYDAY=1SU
END:STANDARD
END:VTIMEZONE
BEGIN:VEVENT
UID:2021996:Event:160626
DTSTAMP:20260420T025352Z
SUMMARY:Disney's Aladdin Jr.
DESCRIPTION:The Art Underground is proud to present a youth musical th
 eater production of Aladdin, Jr., performed by local talent in 4th-8th
  grades. *directed by Betsy Keating  All of your favorite characters f
 rom the hit Disney film - Aladdin, Jasmine, Iago, Jafar, the Genie, an
 d more - are here in Disney's Aladdin Jr., a musical adventure filled 
 with magic, mayhem, and flying carpet rides.   Friday,11/14/14 7pm Blu
 e Cast  Saturday, 11/15/14 11am Red Cast 2:30pm Blue Cast 6:00pm Yello
 w Cast  Sunday, 11/16/14 1pm Yellow Cast 4:30pm Red Cast\n\nFor more i
 nformation visit https://www.mytowncolorado.com/events/disney-s-aladdi
 n-jr
DTSTART;TZID=America/Denver:20141114T190000
DTEND;TZID=America/Denver:20141116T163000
CATEGORIES:youth, theater, performance
LOCATION:Platt Middle School
WEBSITE:http://www.artunder.org
URL:http://www.artunder.org
CONTACT:303-229-1127
ORGANIZER:Lori Jones
ATTACH;FMTTYPE="image/jpeg":http://storage.ning.com/topology/rest/1.0/
 file/get/1051723759?profile=original
ATTENDEE;ROLE=REQ-PARTICIPANT;PARTSTAT=ACCEPTED;RSVP=TRUE;CN="priscill
 a Slocum Lacy":https://www.mytowncolorado.com/profile/priscillaSlocumL
 acy
END:VEVENT
END:VCALENDAR
