BEGIN:VCALENDAR
PRODID:NingEventWidget-v1
VERSION:2.0
METHOD:PUBLISH
BEGIN:VTIMEZONE
TZID:America/Denver
X-LIC-LOCATION:America/Denver
BEGIN:DAYLIGHT
TZOFFSETFROM:-0700
TZOFFSETTO:-0600
TZNAME:MDT
DTSTART:19700308T020000
RRULE:FREQ=YEARLY;BYMONTH=3;BYDAY=2SU
END:DAYLIGHT
BEGIN:STANDARD
TZOFFSETFROM:-0600
TZOFFSETTO:-0700
TZNAME:MST
DTSTART:19701101T020000
RRULE:FREQ=YEARLY;BYMONTH=11;BYDAY=1SU
END:STANDARD
END:VTIMEZONE
BEGIN:VEVENT
UID:2021996:Event:164483
DTSTAMP:20260420T112730Z
SUMMARY:Eagle Rock Theatre presents Spring Awakening
DESCRIPTION:Eagle Rock Theatre will present the musical Spring Awakeni
 ng on April 1st, 2nd, and 3rd at the Rialto Theatre in Loveland on 228
  East 4th Street. All shows begin at 7:00pm. Admission at the door is 
 “pay what you like” and benefits the Eagle Rock Graduate Fund. Thi
 s show is for mature audiences and is not suitable for children. The E
 agle Rock School in Estes Park is a Corporate Social Responsibility in
 itiative of the American Honda Education Corporation, a nonprofit subs
 idiary of the American Honda Motor Company. For more information, plea
 se call 970-586-0600 (Ext 1235), or email erstheatre@eaglerockschool.o
 rg.\n\nFor more information visit https://www.mytowncolorado.com/event
 s/eagle-rock-theatre-presents-spring-awakening-2
DTSTART;TZID=America/Denver:20150403T190000
DTEND;TZID=America/Denver:20150403T210000
CATEGORIES:musical, theatre
LOCATION:The Rialto Theatre
WEBSITE:https://goo.gl/maps/jFVQN
URL:https://goo.gl/maps/jFVQN
CONTACT:970-586-0600 (Ext 1235)
ORGANIZER:Meg Tokunaga-Scanlon
ATTACH;FMTTYPE="image/jpeg":http://storage.ning.com/topology/rest/1.0/
 file/get/1051719335?profile=original
ATTENDEE;ROLE=REQ-PARTICIPANT;PARTSTAT=ACCEPTED;RSVP=TRUE;CN="Isaac Le
 slie":https://www.mytowncolorado.com/profile/IsaacLeslie
END:VEVENT
END:VCALENDAR
