BEGIN:VCALENDAR
PRODID:NingEventWidget-v1
VERSION:2.0
METHOD:PUBLISH
BEGIN:VTIMEZONE
TZID:America/Denver
X-LIC-LOCATION:America/Denver
BEGIN:DAYLIGHT
TZOFFSETFROM:-0700
TZOFFSETTO:-0600
TZNAME:MDT
DTSTART:19700308T020000
RRULE:FREQ=YEARLY;BYMONTH=3;BYDAY=2SU
END:DAYLIGHT
BEGIN:STANDARD
TZOFFSETFROM:-0600
TZOFFSETTO:-0700
TZNAME:MST
DTSTART:19701101T020000
RRULE:FREQ=YEARLY;BYMONTH=11;BYDAY=1SU
END:STANDARD
END:VTIMEZONE
BEGIN:VEVENT
UID:2021996:Event:164467
DTSTAMP:20260420T055636Z
SUMMARY:Easter Egg Hunt
DESCRIPTION:Bring your basket and join the City of Lafayette Recreatio
 n Department as we host our Anual Easter Egg Hunt.  This is a FREE EV
 ENT, so please arrive early to park and get your spot. We encourage fa
 milies to walk or bike.  The Easter Bunny will be available for photo
 s after the event. Rain/Snow date is April 4, 2015.\n\nFor more inform
 ation visit https://www.mytowncolorado.com/events/easter-egg-hunt-1
DTSTART;TZID=America/Denver:20150328T100000
DTEND;TZID=America/Denver:20150328T103000
CATEGORIES:easter, egg, hunt
LOCATION:Waneka Lake Park
WEBSITE:http://www.cityoflafayette.com/index.aspx?nid=879
URL:http://www.cityoflafayette.com/index.aspx?nid=879
CONTACT:303-665-0469
ORGANIZER;CN="Lafayette Recreation Dept":https://www.mytowncolorado.co
 m/profile/DebbieWilmot
ATTACH;FMTTYPE="image/jpeg":http://storage.ning.com/topology/rest/1.0/
 file/get/1051717926?profile=original
ATTENDEE;ROLE=REQ-PARTICIPANT;PARTSTAT=ACCEPTED;RSVP=TRUE;CN="Lafayett
 e Recreation Dept":https://www.mytowncolorado.com/profile/DebbieWilmot
END:VEVENT
END:VCALENDAR
