BEGIN:VCALENDAR
PRODID:NingEventWidget-v1
VERSION:2.0
METHOD:PUBLISH
BEGIN:VTIMEZONE
TZID:America/Denver
X-LIC-LOCATION:America/Denver
BEGIN:DAYLIGHT
TZOFFSETFROM:-0700
TZOFFSETTO:-0600
TZNAME:MDT
DTSTART:19700308T020000
RRULE:FREQ=YEARLY;BYMONTH=3;BYDAY=2SU
END:DAYLIGHT
BEGIN:STANDARD
TZOFFSETFROM:-0600
TZOFFSETTO:-0700
TZNAME:MST
DTSTART:19701101T020000
RRULE:FREQ=YEARLY;BYMONTH=11;BYDAY=1SU
END:STANDARD
END:VTIMEZONE
BEGIN:VEVENT
UID:2021996:Event:164302
DTSTAMP:20260420T055954Z
SUMMARY:Estes Park Job Fair
DESCRIPTION:4th Annual Estes Park Job Fair\n \nMark your calendar! We
 dnesday April 1st will be the 4th annual Estes Park job fair.  Are yo
 u looking for employment in beautiful Estes Park?  Then you won’t w
 ant to miss this highly anticipated event to network.  The 4th Annual
  Estes Park Job Fair will be held on April 1st at The Rocky Mountain P
 ark Inn Conference Center from 9:00 a.m. - 1:00 p.m.  According to Jo
 n Nicholas of the Estes Park Economic Development Corporation, this ye
 ar’s job fair will be “the place to be” if you’re looking for 
 a job in Estes Park. This job fair offers the opportunity to discuss j
 obs openings, how to apply and/or schedule an interview.  Job-seekers
  should dress professionally and bring copies of their resume. For mor
 e information visit www.larimerworkforce.org/Estes-JobFair. Get starte
 d on your dream to work in Estes Park!\n \n\nFor more information vis
 it https://www.mytowncolorado.com/events/estes-park-job-fair
DTSTART;TZID=America/Denver:20150401T090000
DTEND;TZID=America/Denver:20150401T130000
CATEGORIES:job, fair
LOCATION:Rocky Mountain Park Inn Conference Center, Estes Park
WEBSITE:http://www.larimerworkforce.org/Estes-JobFair.org
URL:http://www.larimerworkforce.org/Estes-JobFair.org
CONTACT:9705772152
ORGANIZER;CN="Kelly Murray":https://www.mytowncolorado.com/profile/Kel
 lyMurray
ATTACH;FMTTYPE="image/jpeg":http://storage.ning.com/topology/rest/1.0/
 file/get/1051723257?profile=original
ATTENDEE;ROLE=REQ-PARTICIPANT;PARTSTAT=ACCEPTED;RSVP=TRUE;CN="Kelly Mu
 rray":https://www.mytowncolorado.com/profile/KellyMurray
END:VEVENT
END:VCALENDAR
