BEGIN:VCALENDAR
PRODID:NingEventWidget-v1
VERSION:2.0
METHOD:PUBLISH
BEGIN:VTIMEZONE
TZID:America/Denver
X-LIC-LOCATION:America/Denver
BEGIN:DAYLIGHT
TZOFFSETFROM:-0700
TZOFFSETTO:-0600
TZNAME:MDT
DTSTART:19700308T020000
RRULE:FREQ=YEARLY;BYMONTH=3;BYDAY=2SU
END:DAYLIGHT
BEGIN:STANDARD
TZOFFSETFROM:-0600
TZOFFSETTO:-0700
TZNAME:MST
DTSTART:19701101T020000
RRULE:FREQ=YEARLY;BYMONTH=11;BYDAY=1SU
END:STANDARD
END:VTIMEZONE
BEGIN:VEVENT
UID:2021996:Event:160954
DTSTAMP:20260420T061929Z
SUMMARY:Try our new events calendars
DESCRIPTION:The Boulder Daily Camera, has a new events calendar that c
 ontains many local events and venues.  Search by date, venue or locat
 ion.  Check it out here: Things to Do.\nTo check out the Longmont Tim
 es-Call calendar, Click Here.\nTo check out the Loveland Reporter-Hera
 ld calendar, Click Here.\nTo check out the Colorado Hometown Weekly ca
 lendar, Click Here.\nTo check out the Broomfield Enterprise calendar, 
 Click Here.\nTo check out the Estes Park Trail Gazette calendar, Click
  Here.\n\nFor more information visit https://www.mytowncolorado.com/ev
 ents/events-calendar
DTSTART;TZID=America/Denver:20141201T180000
DTEND;TZID=America/Denver:20141220T190000
CATEGORIES:event, calendar
LOCATION:Daily Camera, Times Call, Reporter Herald
WEBSITE:http://www.dailycamera.com/events/things-to-do/
URL:http://www.dailycamera.com/events/things-to-do/
CONTACT:
ORGANIZER:SpinGo Events
ATTACH;FMTTYPE="image/jpeg":
ATTENDEE;ROLE=REQ-PARTICIPANT;PARTSTAT=ACCEPTED;RSVP=TRUE;CN="Alan Cra
 ndall":https://www.mytowncolorado.com/profile/AlanCrandall
END:VEVENT
END:VCALENDAR
