BEGIN:VCALENDAR
PRODID:NingEventWidget-v1
VERSION:2.0
METHOD:PUBLISH
BEGIN:VTIMEZONE
TZID:America/Denver
X-LIC-LOCATION:America/Denver
BEGIN:DAYLIGHT
TZOFFSETFROM:-0700
TZOFFSETTO:-0600
TZNAME:MDT
DTSTART:19700308T020000
RRULE:FREQ=YEARLY;BYMONTH=3;BYDAY=2SU
END:DAYLIGHT
BEGIN:STANDARD
TZOFFSETFROM:-0600
TZOFFSETTO:-0700
TZNAME:MST
DTSTART:19701101T020000
RRULE:FREQ=YEARLY;BYMONTH=11;BYDAY=1SU
END:STANDARD
END:VTIMEZONE
BEGIN:VEVENT
UID:2021996:Event:160769
DTSTAMP:20260420T064358Z
SUMMARY:Free Concert/Fundraiser to get Coleman Dickson to Memphis
DESCRIPTION:Fundraiser & Silent auction to help Louisville 16 year old
  Coleman Dickson travel to Memphis to compete a the International Blue
 s Challenge in January, 2015. Coleman has been chosen by the Colorado 
 Blues Society to represent CBS in the youth showcase division\n\nFor m
 ore information visit https://www.mytowncolorado.com/events/free-conce
 rt-fundraiser-to-get-coleman-dickson-to-memphis
DTSTART;TZID=America/Denver:20141129T160000
DTEND;TZID=America/Denver:20141129T180000
CATEGORIES:"concert/fundraiser/silent", auction
LOCATION:Alfalfa's in Louisville
WEBSITE:http://www.alfalfas.com/our-store/louisville/
URL:http://www.alfalfas.com/our-store/louisville/
CONTACT:303 859-1339
ORGANIZER;CN="Ellie Dickson":https://www.mytowncolorado.com/profile/El
 lieDickson
ATTACH;FMTTYPE="image/jpeg":http://storage.ning.com/topology/rest/1.0/
 file/get/1051717969?profile=original
ATTENDEE;ROLE=REQ-PARTICIPANT;PARTSTAT=ACCEPTED;RSVP=TRUE;CN="Ellie Di
 ckson":https://www.mytowncolorado.com/profile/EllieDickson
END:VEVENT
END:VCALENDAR
