BEGIN:VCALENDAR
PRODID:NingEventWidget-v1
VERSION:2.0
METHOD:PUBLISH
BEGIN:VTIMEZONE
TZID:America/Denver
X-LIC-LOCATION:America/Denver
BEGIN:DAYLIGHT
TZOFFSETFROM:-0700
TZOFFSETTO:-0600
TZNAME:MDT
DTSTART:19700308T020000
RRULE:FREQ=YEARLY;BYMONTH=3;BYDAY=2SU
END:DAYLIGHT
BEGIN:STANDARD
TZOFFSETFROM:-0600
TZOFFSETTO:-0700
TZNAME:MST
DTSTART:19701101T020000
RRULE:FREQ=YEARLY;BYMONTH=11;BYDAY=1SU
END:STANDARD
END:VTIMEZONE
BEGIN:VEVENT
UID:2021996:Event:273742
DTSTAMP:20260421T031734Z
SUMMARY:Full Moon Hike + Yoga at The Peoples' Crossing
DESCRIPTION:Full Moon Hike + YogaWith Lori Thursday, May 23 — 7:00am
 -8:15amat The Peoples’ Crossing\nDescription: Join Lori for a Hike +
  Yoga Class at the Peoples’ Crossing! We will meet at the main trail
  head and hike for about 15 minutes before setting up our mats for a 4
 5 minute class and then hike back down to the parking lot.\nThis hike 
 is easy to moderate and is accessible to those coming from sea level w
 ho are not used to the altitude. It contains some incline but the trai
 l is fairly level with few rocky areas to navigate. You will need to h
 ike with your mat. Please bring your own mat and water.\n\nPrice: $27 
 Drop-inIncluded with Membership\n\nFor more information visit https://
 www.mytowncolorado.com/events/full-moon-hike-yoga-at-the-peoples-cross
 ing
DTSTART;TZID=America/Denver:20240523T070000
DTEND;TZID=America/Denver:20240523T203000
CATEGORIES:hike, "+", yoga
LOCATION:The Peoples' Crossing Trailhead
WEBSITE:https://clients.mindbodyonline.com/classic/ws?studioid=182708&
 amp;stype=-7&amp;sView=day&amp;sLoc=0&amp;sTrn=100000133&amp;date=05/2
 3/24
URL:https://clients.mindbodyonline.com/classic/ws?studioid=182708&amp;
 stype=-7&amp;sView=day&amp;sLoc=0&amp;sTrn=100000133&amp;date=05/23/24
CONTACT:
ORGANIZER;CN="Yoga Pearl":https://www.mytowncolorado.com/profile/YogaP
 earl
ATTACH;FMTTYPE="image/jpeg":https://storage.ning.com/topology/rest/1.0
 /file/get/12493839665?profile=original
ATTENDEE;ROLE=REQ-PARTICIPANT;PARTSTAT=ACCEPTED;RSVP=TRUE;CN="Yoga Pea
 rl":https://www.mytowncolorado.com/profile/YogaPearl
END:VEVENT
END:VCALENDAR
