BEGIN:VCALENDAR
PRODID:NingEventWidget-v1
VERSION:2.0
METHOD:PUBLISH
BEGIN:VTIMEZONE
TZID:America/Denver
X-LIC-LOCATION:America/Denver
BEGIN:DAYLIGHT
TZOFFSETFROM:-0700
TZOFFSETTO:-0600
TZNAME:MDT
DTSTART:19700308T020000
RRULE:FREQ=YEARLY;BYMONTH=3;BYDAY=2SU
END:DAYLIGHT
BEGIN:STANDARD
TZOFFSETFROM:-0600
TZOFFSETTO:-0700
TZNAME:MST
DTSTART:19701101T020000
RRULE:FREQ=YEARLY;BYMONTH=11;BYDAY=1SU
END:STANDARD
END:VTIMEZONE
BEGIN:VEVENT
UID:2021996:Event:177239
DTSTAMP:20260420T233342Z
SUMMARY:Furry Photo Fundraiser - Kids & Pets in Costume!
DESCRIPTION:Isabelle Farm is hosting a Halloween-themed, family fun be
 nefit for Mother Gaia Animal Rescue in Lafayette.  Kids, well-behaved
  pets and their parents are invited to wear costumes and have keepsake
  photos taken on the beautiful farmland and then enjoy Day of the Dead
  art-making, a gift basket drawing, homemade Halloween goodies and a d
 onut-eating contest.  All proceeds benefit Mother Gaia for the rescue
 , rehab and rehoming of dogs on death row.  \n\nFor more information 
 visit https://www.mytowncolorado.com/events/furry-photo-fundraiser-kid
 s-pets-in-costume
DTSTART;TZID=America/Denver:20161029T120000
DTEND;TZID=America/Denver:20161029T150000
CATEGORIES:fundraiser
LOCATION:Isabelle Farm
WEBSITE:http://www.isabellefarm.com/
URL:http://www.isabellefarm.com/
CONTACT:
ORGANIZER;CN="Alyson Miller":https://www.mytowncolorado.com/profile/Al
 ysonMiller
ATTACH;FMTTYPE="image/jpeg":
ATTENDEE;ROLE=REQ-PARTICIPANT;PARTSTAT=ACCEPTED;RSVP=TRUE;CN="Alyson M
 iller":https://www.mytowncolorado.com/profile/AlysonMiller
END:VEVENT
END:VCALENDAR
