BEGIN:VCALENDAR
PRODID:NingEventWidget-v1
VERSION:2.0
METHOD:PUBLISH
BEGIN:VTIMEZONE
TZID:America/Denver
X-LIC-LOCATION:America/Denver
BEGIN:DAYLIGHT
TZOFFSETFROM:-0700
TZOFFSETTO:-0600
TZNAME:MDT
DTSTART:19700308T020000
RRULE:FREQ=YEARLY;BYMONTH=3;BYDAY=2SU
END:DAYLIGHT
BEGIN:STANDARD
TZOFFSETFROM:-0600
TZOFFSETTO:-0700
TZNAME:MST
DTSTART:19701101T020000
RRULE:FREQ=YEARLY;BYMONTH=11;BYDAY=1SU
END:STANDARD
END:VTIMEZONE
BEGIN:VEVENT
UID:2021996:Event:164453
DTSTAMP:20260420T010313Z
SUMMARY:Grease
DESCRIPTION:Louisville, CO (March 5, 2015):  \nCome back to 1959 and 
 hang out with the students of Rydell High School. Remember sweet “Sa
 ndy\", the new girl at school who had a summer fling with cool, bad bo
 y “Danny”. They run into each other once school starts and can’t
  quite find their way back to each other. They need the help of their 
 friends in the “pink Ladies” and “Burger Palace Boys” to help 
 them or not. Wonderful tunes like “Summer Nights\", \"Greased Lightn
 ing\", \"Look at me, I’m Sandra Dee”, and of course, “We Go Toge
 ther” capture the magic of the musical. \nBoulder County’s The Ar
 t Underground held select-auditions ( a first for the program) to fill
  two casts of youth performers grades 6th-10th. They, with their direc
 tors, have been hard at work rehearsing since December to bring to aud
 iences four shows. Opening is Thursday, March 19 at 6:30pm in Louisvil
 le.\nShows on 3/20 at 6:30pm and 3/21 at 1 and 5pm \n\nFor more infor
 mation visit https://www.mytowncolorado.com/events/grease
DTSTART;TZID=America/Denver:20150319T183000
DTEND;TZID=America/Denver:20150321T170000
CATEGORIES:youth, -musical, theater
LOCATION:Louisville Middle School
WEBSITE:http://www.artunder.org
URL:http://www.artunder.org
CONTACT:303 229-1127
ORGANIZER:*Lori Jones
ATTACH;FMTTYPE="image/jpeg":http://storage.ning.com/topology/rest/1.0/
 file/get/1051721321?profile=original
ATTENDEE;ROLE=REQ-PARTICIPANT;PARTSTAT=ACCEPTED;RSVP=TRUE;CN="priscill
 a Slocum Lacy":https://www.mytowncolorado.com/profile/priscillaSlocumL
 acy
END:VEVENT
END:VCALENDAR
