BEGIN:VCALENDAR
PRODID:NingEventWidget-v1
VERSION:2.0
METHOD:PUBLISH
BEGIN:VTIMEZONE
TZID:America/Denver
X-LIC-LOCATION:America/Denver
BEGIN:DAYLIGHT
TZOFFSETFROM:-0700
TZOFFSETTO:-0600
TZNAME:MDT
DTSTART:19700308T020000
RRULE:FREQ=YEARLY;BYMONTH=3;BYDAY=2SU
END:DAYLIGHT
BEGIN:STANDARD
TZOFFSETFROM:-0600
TZOFFSETTO:-0700
TZNAME:MST
DTSTART:19701101T020000
RRULE:FREQ=YEARLY;BYMONTH=11;BYDAY=1SU
END:STANDARD
END:VTIMEZONE
BEGIN:VEVENT
UID:2021996:Event:176373
DTSTAMP:20260420T221013Z
SUMMARY:Heroes of A Precious Child Luncheons: Denver & Broomfield
DESCRIPTION:Emmanuel Sanders, wide receiver of the Denver Broncos and 
 Jeff Storey, CEO of Level 3 Communications, to be Honored at the 2016 
 Heroes of A Precious Child Luncheons\n \n(Broomfield and Denver Metro
 , CO) Local nonprofit, A Precious Child, will host two Heroes of A Pre
 cious Child fundraising luncheons this fall.  The first luncheon take
 s place on Tuesday, October 4, 2016 at the Omni Interlocken Resort in 
 Broomfield, Colorado where Emmanuel Sanders, wide receiver of the Denv
 er Broncos, will be the keynote speaker and will be receiving A Precio
 us Child’s Heroes award.  The second luncheon takes place on Wednes
 day, October 19, 2016 at the Westin Denver Downtown in Denver, Colorad
 o where Jeff Storey, CEO of Level 3 Communications will be the keynote
  speaker. Jeff Storey and his family will be presented with the A Prec
 ious Child Heroes award.\n \nMembers of the community are invited to 
 attend both Heroes of A Precious Child Luncheons to celebrate those re
 ceiving the Heroes award, hear about their efforts in improving the li
 ves of children, and to learn more about the essential work the organi
 zation does.  In previous years these luncheons have brought more tha
 n 500 key community members, elected officials, and business leaders t
 ogether.  Registration starts at 11:00AM, with lunch being promptly s
 erved at 11:30AM and the program to shortly follow.  All proceeds fro
 m the Heroes of A Precious Child Luncheons will benefit the nonprofit 
 and aid its mission, providing basic essentials, such as clothing, sho
 es, backpacks, school supplies, and toiletries to disadvantaged and di
 splaced children in Colorado.\n \n“In 2015 A Precious Child served 
 more than 33,500 children in need,” said Carina Martin, CEO and Foun
 der of A Precious Child. “This would not be possible without the sup
 port we receive from caring community members through events such as o
 ur luncheons”.\n \nTo register or learn more about the Broomfield a
 nd Denver Heroes of A Precious Child luncheons visit APreciousChild.or
 g.  If you are interested in becoming a table captain or sponsoring t
 his event please contact Meredith McNulty, Events Manager, at Meredith
 @APreciousChild.org or call 303.466.4272, ext. 108.\n \nAbout A Preci
 ous Child, Inc. - A Precious Child is a 501(c)(3) nonprofit organizati
 on devoted to making a positive impact in the lives of disadvantaged a
 nd displaced children and families in Colorado by improving their qual
 ity of life. A Precious Child provides impoverished Colorado children 
 and families with basic essentials such as clothing, shoes, baby formu
 la, diapers, coats, backpacks and school supplies, sports equipment, h
 oliday gifts, and more. Through its newest program, The COR (Child Out
 comes Resource) Center, A Precious Child also provides case management
  services focused on helping a child to be successful in school includ
 ing referrals for services related to safety, basic needs, education/w
 orkforce development, health and wellness, and social and emotional we
 ll-being. Since 2008, A Precious Child has provided clothing and essen
 tials valued at over $13 million to more than 143,000 children and the
 ir caregivers. A Precious Child serves eight counties surrounding the 
 Denver Metro area, including: Arapahoe, Adams, Boulder, Broomfield, De
 nver, Douglas, Jefferson, and Weld Counties. For more information, cal
 l 303.466.4272, or visit APreciousChild.org\n###\n\nFor more informati
 on visit https://www.mytowncolorado.com/events/heroes-of-a-precious-ch
 ild-luncheons-denver-broomfield
DTSTART;TZID=America/Denver:20161004T110000
DTEND;TZID=America/Denver:20161004T130000
CATEGORIES:fundraiser, luncheon
LOCATION:Omni Interlocken Resort
WEBSITE:http://apreciouschild.org/events/signature-events/heroes-of-a-
 precious-child-broomfield-luncheon
URL:http://apreciouschild.org/events/signature-events/heroes-of-a-prec
 ious-child-broomfield-luncheon
CONTACT:303.466.4272 ext 108
ORGANIZER:Meredith McNulty
ATTACH;FMTTYPE="image/jpeg":http://storage.ning.com/topology/rest/1.0/
 file/get/1051747671?profile=original
ATTENDEE;ROLE=REQ-PARTICIPANT;PARTSTAT=ACCEPTED;RSVP=TRUE;CN="Bethany 
 Welsh":https://www.mytowncolorado.com/profile/BethanyWelsh
END:VEVENT
END:VCALENDAR
