BEGIN:VCALENDAR
PRODID:NingEventWidget-v1
VERSION:2.0
METHOD:PUBLISH
BEGIN:VTIMEZONE
TZID:America/Denver
X-LIC-LOCATION:America/Denver
BEGIN:DAYLIGHT
TZOFFSETFROM:-0700
TZOFFSETTO:-0600
TZNAME:MDT
DTSTART:19700308T020000
RRULE:FREQ=YEARLY;BYMONTH=3;BYDAY=2SU
END:DAYLIGHT
BEGIN:STANDARD
TZOFFSETFROM:-0600
TZOFFSETTO:-0700
TZNAME:MST
DTSTART:19701101T020000
RRULE:FREQ=YEARLY;BYMONTH=11;BYDAY=1SU
END:STANDARD
END:VTIMEZONE
BEGIN:VEVENT
UID:2021996:Event:273785
DTSTAMP:20260419T062811Z
SUMMARY:Hike + Yoga
DESCRIPTION:Hike + YogaWith Lori F.Wednesday, June 19 — 9:00am-10:30
 am\nDescription: Mid-week hike anyone?\nBring a Yoga Mat to store in y
 our car, water, sunscreen and layers.\nWe will meet at the main trailh
 ead and hike for about 45-minutes before grabbing our mats and settlin
 g into a yoga class in the grass.\n\n*No Walk-ins for this class\n\nPr
 ice: Included with Membership$27 Non-Members\n\nFor more information v
 isit https://www.mytowncolorado.com/events/hike-yoga
DTSTART;TZID=America/Denver:20240619T090000
DTEND;TZID=America/Denver:20240619T103000
CATEGORIES:hike, "+", yoga
LOCATION:Chautauqua Loop Trail
WEBSITE:https://clients.mindbodyonline.com/classic/ws?studioid=182708&
 amp;stype=-7&amp;sView=day&amp;sLoc=0&amp;sTrn=100000133&amp;date=06/1
 9/24
URL:https://clients.mindbodyonline.com/classic/ws?studioid=182708&amp;
 stype=-7&amp;sView=day&amp;sLoc=0&amp;sTrn=100000133&amp;date=06/19/24
CONTACT:
ORGANIZER;CN="Yoga Pearl":https://www.mytowncolorado.com/profile/YogaP
 earl
ATTACH;FMTTYPE="image/jpeg":https://storage.ning.com/topology/rest/1.0
 /file/get/12633691676?profile=original
ATTENDEE;ROLE=REQ-PARTICIPANT;PARTSTAT=ACCEPTED;RSVP=TRUE;CN="Yoga Pea
 rl":https://www.mytowncolorado.com/profile/YogaPearl
END:VEVENT
END:VCALENDAR
