BEGIN:VCALENDAR
PRODID:NingEventWidget-v1
VERSION:2.0
METHOD:PUBLISH
BEGIN:VTIMEZONE
TZID:America/Denver
X-LIC-LOCATION:America/Denver
BEGIN:DAYLIGHT
TZOFFSETFROM:-0700
TZOFFSETTO:-0600
TZNAME:MDT
DTSTART:19700308T020000
RRULE:FREQ=YEARLY;BYMONTH=3;BYDAY=2SU
END:DAYLIGHT
BEGIN:STANDARD
TZOFFSETFROM:-0600
TZOFFSETTO:-0700
TZNAME:MST
DTSTART:19701101T020000
RRULE:FREQ=YEARLY;BYMONTH=11;BYDAY=1SU
END:STANDARD
END:VTIMEZONE
BEGIN:VEVENT
UID:2021996:Event:162403
DTSTAMP:20260419T231528Z
SUMMARY:Iron In The Fire
DESCRIPTION:WHO DOESNâ€™T WANT TO MAKE A CHILDâ€™S DREAM COME TRUE?\nJ
 oin Josephâ€™s Journey for a fundraising event February 21, 2015 at Tw
 isted Pine Brewery, 3201 Walnut Street, Boulder, Colorado.\nÂ Josephâ€
 ™s Journey is dedicated to providing wilderness experiences to childre
 n with terminal and life-threatening illnesses.\nÂ \nA Silent Auction 
 will be held February 21st from 4 pm to 9 pm atÂ  Twisted Pine Brewery
 .Â  Auction items include trips, sports equipment and more.Â  Live mus
 ic provided by Ryan Chrys and the Rough Cuts, and also Black Water - A
  Tribute to the Doobie Brothers.\nÂ \nWe also will have a BBQ buffet a
 vailable for $10 in advance ($13 at the door) per person. Beer sold se
 parately.Â  Proceeds from all beer purchases are shared with Josephâ€™
 s Journey too.Â Â  All proceeds will go to fund Journeys for children.
 Â \nhttps://www.eventbrite.com/e/josephs-journey-silent-auction-buffet
 -tickets-15439054628\nhttp://www.josephsjourney.org/calendar/index.htm
 l\nJosephâ€™s Journey is a 501(c) 3 organization.\nlJJ%20Flyer%202014%
 20%282%29.pdf\n\nFor more information visit https://www.mytowncolorado
 .com/events/iron-in-the-fire
DTSTART;TZID=America/Denver:20150221T160000
DTEND;TZID=America/Denver:20150221T210000
CATEGORIES:"fundraiser:", silent, auction
LOCATION:Twisted Pine Brewery
WEBSITE:http://twistedpinebrewing.com/events/
URL:http://twistedpinebrewing.com/events/
CONTACT:303-518-6420
ORGANIZER;CN="Kerry Slaven":https://www.mytowncolorado.com/profile/Ker
 rySlaven
ATTACH;FMTTYPE="image/jpeg":
ATTENDEE;ROLE=REQ-PARTICIPANT;PARTSTAT=ACCEPTED;RSVP=TRUE;CN="Kerry Sl
 aven":https://www.mytowncolorado.com/profile/KerrySlaven
END:VEVENT
END:VCALENDAR
