BEGIN:VCALENDAR
PRODID:NingEventWidget-v1
VERSION:2.0
METHOD:PUBLISH
BEGIN:VTIMEZONE
TZID:America/Denver
X-LIC-LOCATION:America/Denver
BEGIN:DAYLIGHT
TZOFFSETFROM:-0700
TZOFFSETTO:-0600
TZNAME:MDT
DTSTART:19700308T020000
RRULE:FREQ=YEARLY;BYMONTH=3;BYDAY=2SU
END:DAYLIGHT
BEGIN:STANDARD
TZOFFSETFROM:-0600
TZOFFSETTO:-0700
TZNAME:MST
DTSTART:19701101T020000
RRULE:FREQ=YEARLY;BYMONTH=11;BYDAY=1SU
END:STANDARD
END:VTIMEZONE
BEGIN:VEVENT
UID:2021996:Event:159636
DTSTAMP:20260419T212743Z
SUMMARY:Lafayette Quaker Oatmeal Festival
DESCRIPTION:19th Annual Lafayette Quaker Oatmeal Festival is a popular
  family event focusing on healthy lifestyle.\nA unique festival includ
 ing an Oatmeal Breakfast, 5K Walk/Run and Health Fair\n\nOatmeal Break
 fast @ Pioneer Elementary School, 101 E. Baseline Rd., 7:30am-12:00pm 
  More than 200 gallons of Oatmeal will be prepared for the breakfast, 
 plus 4,000 oatmeal pancakes and 1,200 oatmeal muffins.  Oatmeal Bar i
 ncludes over 128 toppings ranging from Fruit, gummy bears, bacon to ja
 lapenos.\nTickets can be purchase in advance at the Lafayette Chamber 
 or at the door. \nCost:  Adults $8, Youth 3-12/Senior 60+ $6, Under 
 2 Free\nA Free shuttle will run from Flatirons Community Church @ 350 
 S. Boulder Rd. continuously from 7:30am-1:30pm to and from Pioneer Ele
 mentary.\nThis is a “Zero-Waste” event – a 2005 Bronze Environme
 ntal Achievement Award recipient from the Colorado Department of Publi
 c Health and Environment.\nFor more information call 303-666-9555 or v
 isit our website @ www.lafayettecolorado.com\n\n\n\n\nHealth Fair spon
 sored by Boulder Community Hospital/Community Medical Center @ Bob L. 
 Burger Rec. Center, 111 W. Baseline Rd., 8:00am-12:00pm\nHealth Fair f
 eatures health screenings, interactive demonstrations and so much more
 .    \nBonfils Community Blood Drive - parking lot between Pioneer
  Elementary and the Bob L. Burger Recreation Center\n\n\nQuicker Quake
 r 5K Walk/Run @ - RMCMA – 200 East Baseline Rd., 5K Start 9:30am  
                                    
                                  \nRe
 gistration starts December 1st, 2014, \nRace registration includes br
 eakfast ticket\n5K Walk / Run starts promptly at 9:30am at Colorado Mu
 sic Festival & Center for Musical Arts, 200 E. Baseline Rd. \n\n\n\n
 \n \n\nFor more information visit https://www.mytowncolorado.com/eve
 nts/lafayette-quaker-oatmeal-festival
DTSTART;TZID=America/Denver:20150110T073000
DTEND;TZID=America/Denver:20150110T120000
CATEGORIES:oatmeal, festival
LOCATION:Bob L. Burger Recreation Center
WEBSITE:http://www.lafayettecolorado.com
URL:http://www.lafayettecolorado.com
CONTACT:303-666-9555
ORGANIZER;CN="Megan Sanders":https://www.mytowncolorado.com/profile/Su
 sieHardy
ATTACH;FMTTYPE="image/jpeg":http://storage.ning.com/topology/rest/1.0/
 file/get/1051711790?profile=original
ATTENDEE;ROLE=REQ-PARTICIPANT;PARTSTAT=ACCEPTED;RSVP=TRUE;CN="Megan Sa
 nders":https://www.mytowncolorado.com/profile/SusieHardy
END:VEVENT
END:VCALENDAR
