BEGIN:VCALENDAR
PRODID:NingEventWidget-v1
VERSION:2.0
METHOD:PUBLISH
BEGIN:VTIMEZONE
TZID:America/Denver
X-LIC-LOCATION:America/Denver
BEGIN:DAYLIGHT
TZOFFSETFROM:-0700
TZOFFSETTO:-0600
TZNAME:MDT
DTSTART:19700308T020000
RRULE:FREQ=YEARLY;BYMONTH=3;BYDAY=2SU
END:DAYLIGHT
BEGIN:STANDARD
TZOFFSETFROM:-0600
TZOFFSETTO:-0700
TZNAME:MST
DTSTART:19701101T020000
RRULE:FREQ=YEARLY;BYMONTH=11;BYDAY=1SU
END:STANDARD
END:VTIMEZONE
BEGIN:VEVENT
UID:2021996:Event:164192
DTSTAMP:20260420T004636Z
SUMMARY:Lifeguard Training Course
DESCRIPTION:The American Red Cross Lifeguard class includes CPR/AED fo
 r the professional rescuer - all you need to become a certified Lifegu
 ard!  You must attend every class to receive an American Red Cross Ce
 rtification.      Pre-Requisites\n●Swim 300 yds utilizing front
  crawl and breaststroke.\n●Swim 20 yards, surface dive to 10 feet to
  retrieve a 10 pound brick from the pool bottom, return to the surface
 , & swim 20 yards back with the brick.\n●Minimum age requirement is 
 15 years.\n  \n\nFor more information visit https://www.mytowncolora
 do.com/events/lifeguard-training-course
DTSTART;TZID=America/Denver:20150323T090000
DTEND;TZID=America/Denver:20150327T160000
CATEGORIES:lifeguard, training
LOCATION:Bob L. Burger Recreation Center
WEBSITE:http://www.cityoflafayette.com/recreation
URL:http://www.cityoflafayette.com/recreation
CONTACT:303-665-0469
ORGANIZER;CN="Lafayette Recreation Dept":https://www.mytowncolorado.co
 m/profile/DebbieWilmot
ATTACH;FMTTYPE="image/jpeg":
ATTENDEE;ROLE=REQ-PARTICIPANT;PARTSTAT=ACCEPTED;RSVP=TRUE;CN="Lafayett
 e Recreation Dept":https://www.mytowncolorado.com/profile/DebbieWilmot
END:VEVENT
END:VCALENDAR
