BEGIN:VCALENDAR
PRODID:NingEventWidget-v1
VERSION:2.0
METHOD:PUBLISH
BEGIN:VTIMEZONE
TZID:America/Denver
X-LIC-LOCATION:America/Denver
BEGIN:DAYLIGHT
TZOFFSETFROM:-0700
TZOFFSETTO:-0600
TZNAME:MDT
DTSTART:19700308T020000
RRULE:FREQ=YEARLY;BYMONTH=3;BYDAY=2SU
END:DAYLIGHT
BEGIN:STANDARD
TZOFFSETFROM:-0600
TZOFFSETTO:-0700
TZNAME:MST
DTSTART:19701101T020000
RRULE:FREQ=YEARLY;BYMONTH=11;BYDAY=1SU
END:STANDARD
END:VTIMEZONE
BEGIN:VEVENT
UID:2021996:Event:177653
DTSTAMP:20260420T232323Z
SUMMARY:Little Mermaid JR
DESCRIPTION:Performances:Saturday, December 3 @ 1:00, 3:30, 6:00Sunday
 , December 4 @ 1:00, 3:30, 6:00Tickets: $5 all agesGrades: 1st-4thJour
 ney “under the sea” with Ariel and her aquatic friends in Disney
 s The Little Mermaid JR., adapted from Disney’s Broadway production
  and the motion picture (featuring the enormously popular Academy Awar
 d-winning music and delightfully charming book and lyrics). Based on o
 ne of Hans Christian Andersen’s most beloved stories, Disney’s The
  Little Mermaid JR. is an enchanting look at the sacrifices we all mak
 e for love and acceptance.Director: Cari JonesChoreographer: Jessica P
 ageGuest Artist: Sean Moynihan\n\nFor more information visit https://w
 ww.mytowncolorado.com/events/little-mermaid-jr
DTSTART;TZID=America/Denver:20161203T130000
DTEND;TZID=America/Denver:20161204T200000
CATEGORIES:theater, performance, youth
LOCATION:The Arts Hub
WEBSITE:http://www.artunder.org
URL:http://www.artunder.org
CONTACT:303 229-1127
ORGANIZER;CN="priscilla Slocum Lacy":https://www.mytowncolorado.com/pr
 ofile/priscillaSlocumLacy
ATTACH;FMTTYPE="image/jpeg":http://storage.ning.com/topology/rest/1.0/
 file/get/1051746683?profile=original
ATTENDEE;ROLE=REQ-PARTICIPANT;PARTSTAT=ACCEPTED;RSVP=TRUE;CN="priscill
 a Slocum Lacy":https://www.mytowncolorado.com/profile/priscillaSlocumL
 acy
END:VEVENT
END:VCALENDAR
