BEGIN:VCALENDAR
PRODID:NingEventWidget-v1
VERSION:2.0
METHOD:PUBLISH
BEGIN:VTIMEZONE
TZID:America/Denver
X-LIC-LOCATION:America/Denver
BEGIN:DAYLIGHT
TZOFFSETFROM:-0700
TZOFFSETTO:-0600
TZNAME:MDT
DTSTART:19700308T020000
RRULE:FREQ=YEARLY;BYMONTH=3;BYDAY=2SU
END:DAYLIGHT
BEGIN:STANDARD
TZOFFSETFROM:-0600
TZOFFSETTO:-0700
TZNAME:MST
DTSTART:19701101T020000
RRULE:FREQ=YEARLY;BYMONTH=11;BYDAY=1SU
END:STANDARD
END:VTIMEZONE
BEGIN:VEVENT
UID:2021996:Event:160255
DTSTAMP:20260420T044710Z
SUMMARY:MATRIXWORKS: ENLIGHTENED FEMININE LEADERSHIP
DESCRIPTION:with Mukara MeredithBoulder, ColoradoNovember 5-9, 2014Thi
 s course provides a new model of leadership for women and men grounded
  in the ‘connective edge’… a feminine quality that men and women
  can develop, and that many women seem to naturally possess. In this w
 orkshop, we will gain a greater understanding of “relational intelli
 gence” and practice using enhanced body awareness and somatic mindfu
 lness to engage ourselves and each other in empowering exercises of co
 nnected leadership. Gain skills and confidence to Lead through Love an
 d Connection, Hope and Unstoppability.Our unique times require a more 
 radical inclusion of all voices and all needs: women leaders have cult
 ivated this skill. Women leaders know how to engage others in dialogue
  and conversations that lead to deeper and more collaborative solution
 s to complex problems.We call this approach ‘Enlightened Feminine Le
 adership’ because it rests on the foundation of the interconnectedne
 ss of all life and the calling to express a deep care and commitment t
 o serve Life. We need other humans from cradle to grave. Learn and tea
 ch a model of Leadership that expresses the power and truth of interde
 pendency. Join us for the Revolution of Interconnection.\n\nFor more i
 nformation visit https://www.mytowncolorado.com/events/matrixworks-enl
 ightened-feminine-leadership
DTSTART;TZID=America/Denver:20141105T180000
DTEND;TZID=America/Denver:20141109T150000
CATEGORIES:workshop
LOCATION:MatrixWorks Temple
WEBSITE:http://www.matrixworks.org
URL:http://www.matrixworks.org
CONTACT:3476889159
ORGANIZER;CN="Sarah Oswald":https://www.mytowncolorado.com/profile/Sar
 ahOswald
ATTACH;FMTTYPE="image/jpeg":http://storage.ning.com/topology/rest/1.0/
 file/get/1051720182?profile=original
ATTENDEE;ROLE=REQ-PARTICIPANT;PARTSTAT=ACCEPTED;RSVP=TRUE;CN="Sarah Os
 wald":https://www.mytowncolorado.com/profile/SarahOswald
END:VEVENT
END:VCALENDAR
