BEGIN:VCALENDAR
PRODID:NingEventWidget-v1
VERSION:2.0
METHOD:PUBLISH
BEGIN:VTIMEZONE
TZID:America/Denver
X-LIC-LOCATION:America/Denver
BEGIN:DAYLIGHT
TZOFFSETFROM:-0700
TZOFFSETTO:-0600
TZNAME:MDT
DTSTART:19700308T020000
RRULE:FREQ=YEARLY;BYMONTH=3;BYDAY=2SU
END:DAYLIGHT
BEGIN:STANDARD
TZOFFSETFROM:-0600
TZOFFSETTO:-0700
TZNAME:MST
DTSTART:19701101T020000
RRULE:FREQ=YEARLY;BYMONTH=11;BYDAY=1SU
END:STANDARD
END:VTIMEZONE
BEGIN:VEVENT
UID:2021996:Event:176936
DTSTAMP:20260420T200211Z
SUMMARY:Medicine Horse Program Annual Benefit
DESCRIPTION:Please join us for the annual Medicine Horse Program Fundr
 aiser Event. We hope to raise $40,000 by 10/22 to support the facility
  and our beautiful horses. We hope you and yours will join us in a cel
 ebration. We will have music, games, food, drinks, an auction, and mor
 e! Please donate in advance online or upon arrival! \nTickets: Sugge
 sted donation $20http://mhpbenefit2016.eventbrite.com/\nMedicine Horse
  Program is a 501c non-profit organization specializing in Equine Assi
 sted Therapy. These horses literally change people's lives. Please com
 e celebrate them with us.\n\nFor more information visit https://www.my
 towncolorado.com/events/medicine-horse-program-annual-benefit
DTSTART;TZID=America/Denver:20161022T140000
DTEND;TZID=America/Denver:20161022T180000
CATEGORIES:fundraiser
LOCATION:Medicine Horse Program
WEBSITE:http://www.medicinehorse.org
URL:http://www.medicinehorse.org
CONTACT:720-406-7630
ORGANIZER:Medicine Horse Committee
ATTACH;FMTTYPE="image/jpeg":http://storage.ning.com/topology/rest/1.0/
 file/get/1051741767?profile=original
ATTENDEE;ROLE=REQ-PARTICIPANT;PARTSTAT=ACCEPTED;RSVP=TRUE;CN="Susan Bo
 rutzki":https://www.mytowncolorado.com/profile/SusanBorutzki
END:VEVENT
END:VCALENDAR
