BEGIN:VCALENDAR
PRODID:NingEventWidget-v1
VERSION:2.0
METHOD:PUBLISH
BEGIN:VTIMEZONE
TZID:America/Denver
X-LIC-LOCATION:America/Denver
BEGIN:DAYLIGHT
TZOFFSETFROM:-0700
TZOFFSETTO:-0600
TZNAME:MDT
DTSTART:19700308T020000
RRULE:FREQ=YEARLY;BYMONTH=3;BYDAY=2SU
END:DAYLIGHT
BEGIN:STANDARD
TZOFFSETFROM:-0600
TZOFFSETTO:-0700
TZNAME:MST
DTSTART:19701101T020000
RRULE:FREQ=YEARLY;BYMONTH=11;BYDAY=1SU
END:STANDARD
END:VTIMEZONE
BEGIN:VEVENT
UID:2021996:Event:163945
DTSTAMP:20260420T041826Z
SUMMARY:Metropolitan Jazz Orchestra presents “A Taste of Jazz”
DESCRIPTION:Enjoy an afternoon of live jazz music while sampling artis
 anal craft beer and local urban wines at the beautiful Historic Grant 
 Avenue.  Listen to Denver’s premier contemporary jazz band, the Met
 ropolitan Jazz Orchestra, on Saturday, March 28th at 4:00pm after enjo
 ying small batch beer and wine from Epic Brewing Company and The Infin
 ite Monkey Theorem winery.\n \nSpecially priced flights of wine and b
 eer will be sold for only $7 and $5 starting at 2:30pm.  Epic Brewing
  Company will have its award-winning Belgian-style Golden, Copper Cone
  Extra Strong Pale Ale, Hopulent IPA, and 825 Stout available by the f
 light or the glass.  The Infinite Monkey Theorem is a local winery op
 erating out of a back alley in the RiNo Art District of Denver, and wi
 ll be pouring a selection of their unique urban wines.\n \nThe Desser
 t Stand will also sell their Sweet Treat gourmet cupcakes and other ta
 sty specialties before the performance.\n \nAfter the wine and beer t
 astings, enjoy two sets of sizzling big band jazz and vocals by Metrop
 olitan Jazz Orchestra.  This Denver band has a unique and exciting re
 pertoire of classics, standards, and familiar tunes blended with a cut
 ting edge urban vibe.  MJO features 20 of Denver's finest jazz musici
 ans including vocals by Suzanne Morrison and Doug Barta.\n \nDuring t
 he performance, Eric Matelski (a.k.a. “The Art Pimp”) will create 
 a painting of the band that will be auctioned off following the show.
  Eric has made his place in the art community as a “live artist,”
  painting portraits of musicians and performers at hundreds of concert
 s and events, and completing paintings during a performance - and even
  in the time span of just one song. \n \nTickets for “A Taste of J
 azz” are only $15 for adults and $13 for students, seniors and milit
 ary.  They are available at the door or on the Dates page at www.Metr
 opolitanJazzOrchestra.com.  The Historic Grant Avenue is located at 2
 16 South Grant Street Denver 80209. \n\nFor more information visit ht
 tps://www.mytowncolorado.com/events/metropolitan-jazz-orchestra-presen
 ts-a-taste-of-jazz
DTSTART;TZID=America/Denver:20150328T160000
DTEND;TZID=America/Denver:20150328T180000
CATEGORIES:concert
LOCATION:Historic Grant Avenue
WEBSITE:http://metropolitanjazzorchestra.org/
URL:http://metropolitanjazzorchestra.org/
CONTACT:303-476-0560
ORGANIZER:Metropolitan Jazz Orchestra
ATTACH;FMTTYPE="image/jpeg":
ATTENDEE;ROLE=REQ-PARTICIPANT;PARTSTAT=ACCEPTED;RSVP=TRUE;CN="Rocky Mo
 untain Brassworks":https://www.mytowncolorado.com/profile/RockyMountai
 nBrassworks
END:VEVENT
END:VCALENDAR
