BEGIN:VCALENDAR
PRODID:NingEventWidget-v1
VERSION:2.0
METHOD:PUBLISH
BEGIN:VTIMEZONE
TZID:America/Denver
X-LIC-LOCATION:America/Denver
BEGIN:DAYLIGHT
TZOFFSETFROM:-0700
TZOFFSETTO:-0600
TZNAME:MDT
DTSTART:19700308T020000
RRULE:FREQ=YEARLY;BYMONTH=3;BYDAY=2SU
END:DAYLIGHT
BEGIN:STANDARD
TZOFFSETFROM:-0600
TZOFFSETTO:-0700
TZNAME:MST
DTSTART:19701101T020000
RRULE:FREQ=YEARLY;BYMONTH=11;BYDAY=1SU
END:STANDARD
END:VTIMEZONE
BEGIN:VEVENT
UID:2021996:Event:273868
DTSTAMP:20260423T050320Z
SUMMARY:Mothers Day SlowFlow
DESCRIPTION:Mothers Day SlowFlowWith KelleySunday, May 12 — 1:15 - 2
 :15 PM\nDescription: In honor of Mother’s Day, come share your pract
 ice with your mother, grandmother, children, partner or any nurturing 
 person in your life. This specially designed SlowFlow class will inclu
 de a mini gratitude meditation followed by a gentle build to a challen
 ging flow. Yoga Pearl has partnered with Fiori Flowers to provide part
 icipants with a complimentary gift.\nPrice: Included with Membership$2
 7 Non-Members\nPre-registration is suggested\n\nFor more information v
 isit https://www.mytowncolorado.com/events/mothers-day-slowflow
DTSTART;TZID=America/Denver:20240512T131500
DTEND;TZID=America/Denver:20240512T141500
CATEGORIES:specialty, class
LOCATION:Yoga Pearl
WEBSITE:https://clients.mindbodyonline.com/classic/ws?studioid=182708&
 amp;stype=-7&amp;sView=day&amp;sLoc=0&amp;sTrn=100000240&amp;date=05/1
 2/24
URL:https://clients.mindbodyonline.com/classic/ws?studioid=182708&amp;
 stype=-7&amp;sView=day&amp;sLoc=0&amp;sTrn=100000240&amp;date=05/12/24
CONTACT:
ORGANIZER;CN="Yoga Pearl":https://www.mytowncolorado.com/profile/YogaP
 earl
ATTACH;FMTTYPE="image/jpeg":https://storage.ning.com/topology/rest/1.0
 /file/get/12491950677?profile=original
ATTENDEE;ROLE=REQ-PARTICIPANT;PARTSTAT=ACCEPTED;RSVP=TRUE;CN="Yoga Pea
 rl":https://www.mytowncolorado.com/profile/YogaPearl
END:VEVENT
END:VCALENDAR
