BEGIN:VCALENDAR
PRODID:NingEventWidget-v1
VERSION:2.0
METHOD:PUBLISH
BEGIN:VTIMEZONE
TZID:America/Denver
X-LIC-LOCATION:America/Denver
BEGIN:DAYLIGHT
TZOFFSETFROM:-0700
TZOFFSETTO:-0600
TZNAME:MDT
DTSTART:19700308T020000
RRULE:FREQ=YEARLY;BYMONTH=3;BYDAY=2SU
END:DAYLIGHT
BEGIN:STANDARD
TZOFFSETFROM:-0600
TZOFFSETTO:-0700
TZNAME:MST
DTSTART:19701101T020000
RRULE:FREQ=YEARLY;BYMONTH=11;BYDAY=1SU
END:STANDARD
END:VTIMEZONE
BEGIN:VEVENT
UID:2021996:Event:164279
DTSTAMP:20260420T010453Z
SUMMARY:Music Man Jr
DESCRIPTION:Louisville, CO (March 5, 2015):  \nMaster showman Harold 
 Hill is in town, and he’s got “seventy-six trombones” in tow. Ca
 n uptight Marion, the town librarian, resist his powerful allure? Base
 d on the timeless Broadway Classic (1958 Tony award-winner), The Musi
 c Man Junior adapts this masterful musical for young performers. The 
 result is family entertainment at its best - a bold, brassy show that 
 will have the whole town atwitter!\nBoulder County’s The Art Undergr
 ound has two casts of youth performers grades 4th -7th have been hard 
 at work rehearsing this show since December. They will be opening the 
 show in a week on Saturday, March 14 in Boulder. Three more shows will
  follow into Sunday afternoon. at 1:00 and 5:00 on both days\n\n\n\n\n
 \n\nFor more information visit https://www.mytowncolorado.com/events/m
 usic-man-jr
DTSTART;TZID=America/Denver:20150314T130000
DTEND;TZID=America/Denver:20150315T170000
CATEGORIES:youth--musical, theater
LOCATION:Platt Middle School
WEBSITE:http://www.artunder.org
URL:http://www.artunder.org
CONTACT:303 229-1127
ORGANIZER;CN="priscilla Slocum Lacy":https://www.mytowncolorado.com/pr
 ofile/priscillaSlocumLacy
ATTACH;FMTTYPE="image/jpeg":http://storage.ning.com/topology/rest/1.0/
 file/get/1051723056?profile=original
ATTENDEE;ROLE=REQ-PARTICIPANT;PARTSTAT=ACCEPTED;RSVP=TRUE;CN="priscill
 a Slocum Lacy":https://www.mytowncolorado.com/profile/priscillaSlocumL
 acy
END:VEVENT
END:VCALENDAR
