BEGIN:VCALENDAR
PRODID:NingEventWidget-v1
VERSION:2.0
METHOD:PUBLISH
BEGIN:VTIMEZONE
TZID:America/Denver
X-LIC-LOCATION:America/Denver
BEGIN:DAYLIGHT
TZOFFSETFROM:-0700
TZOFFSETTO:-0600
TZNAME:MDT
DTSTART:19700308T020000
RRULE:FREQ=YEARLY;BYMONTH=3;BYDAY=2SU
END:DAYLIGHT
BEGIN:STANDARD
TZOFFSETFROM:-0600
TZOFFSETTO:-0700
TZNAME:MST
DTSTART:19701101T020000
RRULE:FREQ=YEARLY;BYMONTH=11;BYDAY=1SU
END:STANDARD
END:VTIMEZONE
BEGIN:VEVENT
UID:2021996:Event:160754
DTSTAMP:20260420T081811Z
SUMMARY:Nature Wonders Camp
DESCRIPTION:Designed to keep kids engaged and having fun while school 
 is on fall break. Included in each day's activities are arts and craft
 s, games and swimming. Kids need to bring a non-perishable lunch, morn
 ing and afternoon snack, drink and swimsuit and towel. Parents need to
  sign in and out their participants each day.\n\nFor more information 
 visit https://www.mytowncolorado.com/events/nature-wonders-camp-2
DTSTART;TZID=America/Denver:20141126T073000
DTEND;TZID=America/Denver:20141126T180000
CATEGORIES:"school's", out, camp
LOCATION:Bob L. Burger Recreation Center
WEBSITE:http://www.cityoflafayette.com/recreation
URL:http://www.cityoflafayette.com/recreation
CONTACT:303-665-0469
ORGANIZER;CN="Lafayette Recreation Dept":https://www.mytowncolorado.co
 m/profile/DebbieWilmot
ATTACH;FMTTYPE="image/jpeg":
ATTENDEE;ROLE=REQ-PARTICIPANT;PARTSTAT=ACCEPTED;RSVP=TRUE;CN="Lafayett
 e Recreation Dept":https://www.mytowncolorado.com/profile/DebbieWilmot
END:VEVENT
END:VCALENDAR
