BEGIN:VCALENDAR
PRODID:NingEventWidget-v1
VERSION:2.0
METHOD:PUBLISH
BEGIN:VTIMEZONE
TZID:America/Denver
X-LIC-LOCATION:America/Denver
BEGIN:DAYLIGHT
TZOFFSETFROM:-0700
TZOFFSETTO:-0600
TZNAME:MDT
DTSTART:19700308T020000
RRULE:FREQ=YEARLY;BYMONTH=3;BYDAY=2SU
END:DAYLIGHT
BEGIN:STANDARD
TZOFFSETFROM:-0600
TZOFFSETTO:-0700
TZNAME:MST
DTSTART:19701101T020000
RRULE:FREQ=YEARLY;BYMONTH=11;BYDAY=1SU
END:STANDARD
END:VTIMEZONE
BEGIN:VEVENT
UID:2021996:Event:274033
DTSTAMP:20260419T063217Z
SUMMARY:New Moon Restorative Yoga + Sound Healing
DESCRIPTION:New Moon Restorative Yoga + Sound HealingWith Valerie Weyr
 ichWednesday, July 3 — 7:15 pm-8:30pm\nDescription: Join Valerie in 
 the studio for nurturing Restorative Yoga and a Sound Bath to honor th
 is month's New Moon. Slip into deep relaxation and enjoy the healing s
 ounds of gongs, singing bowls, and sacred instruments.\n\nPrice: Inclu
 ded with Membership$27 Non-Members\nPre-registration is suggested\n\nF
 or more information visit https://www.mytowncolorado.com/events/new-mo
 on-restorative-yoga-sound-healing-9
DTSTART;TZID=America/Denver:20240703T191500
DTEND;TZID=America/Denver:20240703T203000
CATEGORIES:sound, bath
LOCATION:Yoga Pearl
WEBSITE:https://clients.mindbodyonline.com/classic/ws?studioid=182708&
 amp;stype=-7&amp;sView=day&amp;sLoc=0&amp;sTrn=100000108&amp;date=07/0
 3/24
URL:https://clients.mindbodyonline.com/classic/ws?studioid=182708&amp;
 stype=-7&amp;sView=day&amp;sLoc=0&amp;sTrn=100000108&amp;date=07/03/24
CONTACT:
ORGANIZER;CN="Yoga Pearl":https://www.mytowncolorado.com/profile/YogaP
 earl
ATTACH;FMTTYPE="image/jpeg":https://storage.ning.com/topology/rest/1.0
 /file/get/12640585658?profile=original
ATTENDEE;ROLE=REQ-PARTICIPANT;PARTSTAT=ACCEPTED;RSVP=TRUE;CN="Yoga Pea
 rl":https://www.mytowncolorado.com/profile/YogaPearl
END:VEVENT
END:VCALENDAR
