BEGIN:VCALENDAR
PRODID:NingEventWidget-v1
VERSION:2.0
METHOD:PUBLISH
BEGIN:VTIMEZONE
TZID:America/Denver
X-LIC-LOCATION:America/Denver
BEGIN:DAYLIGHT
TZOFFSETFROM:-0700
TZOFFSETTO:-0600
TZNAME:MDT
DTSTART:19700308T020000
RRULE:FREQ=YEARLY;BYMONTH=3;BYDAY=2SU
END:DAYLIGHT
BEGIN:STANDARD
TZOFFSETFROM:-0600
TZOFFSETTO:-0700
TZNAME:MST
DTSTART:19701101T020000
RRULE:FREQ=YEARLY;BYMONTH=11;BYDAY=1SU
END:STANDARD
END:VTIMEZONE
BEGIN:VEVENT
UID:2021996:Event:159786
DTSTAMP:20260420T093908Z
SUMMARY:Open Studios - Four Dynamic Artists in One Studio
DESCRIPTION:“Four Dynamic Artists in One Studio” - A Sampler Exper
 ience For Open Studios This Final Weekend 1025 Rosewood #108 Gives Art
  Lovers the Greatest Bang for Your Studio Time\n As art lovers along 
 the Front Range are planning their strategy to visit artist studios an
 d experience the much anticipated annual Open Studios fall tour in Bou
 lder this final weekend, a true must visit stop must be the studio at 
 1025 Rosewood #108.  This is where four dynamic female artists with d
 ifferent creative styles and one vision were all accepted to participa
 te in this year’s Boulder Open Studios  – Pam Simich (#72, acryli
 c, www.pamsimich.com ), Monika Bunting (#73, encaustic , www.monikabun
 tingphotography.com ),  Lael Har (#74, acrylic, www.LaelDesigns.com )
  and Cindy Sepucha (#75, mixed-media, www.cindysepucha.com). \n\nFor 
 more information visit https://www.mytowncolorado.com/events/open-stud
 ios-four-dynamic-artists-in-one-studio
DTSTART;TZID=America/Denver:20141011T120000
DTEND;TZID=America/Denver:20141012T180000
CATEGORIES:artists, studio, tour
LOCATION:Artist Studio - 1025 Rosewood #108
WEBSITE:https://www.google.com/maps/place/1025+Rosewood+Ave,+Boulder,+
 CO+80304/@40.0574892,-105.2838949,17z/data=!3m1!4b1!4m2!3m1!1s0x876bee
 e17d2afd0d:0x68d4e54b1373ef00
URL:https://www.google.com/maps/place/1025+Rosewood+Ave,+Boulder,+CO+8
 0304/@40.0574892,-105.2838949,17z/data=!3m1!4b1!4m2!3m1!1s0x876beee17d
 2afd0d:0x68d4e54b1373ef00
CONTACT:
ORGANIZER:Susan/Pam
ATTACH;FMTTYPE="image/jpeg":
ATTENDEE;ROLE=REQ-PARTICIPANT;PARTSTAT=ACCEPTED;RSVP=TRUE;CN=Susan:htt
 ps://www.mytowncolorado.com/profile/Susan544
END:VEVENT
END:VCALENDAR
