BEGIN:VCALENDAR
PRODID:NingEventWidget-v1
VERSION:2.0
METHOD:PUBLISH
BEGIN:VTIMEZONE
TZID:America/Denver
X-LIC-LOCATION:America/Denver
BEGIN:DAYLIGHT
TZOFFSETFROM:-0700
TZOFFSETTO:-0600
TZNAME:MDT
DTSTART:19700308T020000
RRULE:FREQ=YEARLY;BYMONTH=3;BYDAY=2SU
END:DAYLIGHT
BEGIN:STANDARD
TZOFFSETFROM:-0600
TZOFFSETTO:-0700
TZNAME:MST
DTSTART:19701101T020000
RRULE:FREQ=YEARLY;BYMONTH=11;BYDAY=1SU
END:STANDARD
END:VTIMEZONE
BEGIN:VEVENT
UID:2021996:Event:176101
DTSTAMP:20260420T235207Z
SUMMARY:Peace, Love & PIZZAZ!
DESCRIPTION:TRU Community Care in Lafayette is celebrating its 40th an
 niversary with a gala at 6 p.m. Sept. 17 at the Denver Marriott Westmi
 nster, 7000 Church Ranch Blvd.,Westminster.\nThe theme is Peace, Love 
 & PIZZAZ! and will feature a ’70s theme and live band Soul School.\n
 TRU was founded in 1976 as the first hospice in Colorado. In addition 
 to its headquarters in Lafayette, which serves theBoulder and Broomfie
 ld counties and surrounding areas, TRU also operates a care center in 
 Greeley. Go to trucare.org.\n\nFor more information visit https://www.
 mytowncolorado.com/events/peace-love-pizzaz
DTSTART;TZID=America/Denver:20160917T180000
DTEND;TZID=America/Denver:20160917T220000
CATEGORIES:fundraiser
LOCATION:Denver Marriott Westminster
WEBSITE:http://www.denvermarriottwestminster.com/
URL:http://www.denvermarriottwestminster.com/
CONTACT:303-442-0961
ORGANIZER:TRU Community Care
ATTACH;FMTTYPE="image/jpeg":http://storage.ning.com/topology/rest/1.0/
 file/get/1051747493?profile=original
ATTENDEE;ROLE=REQ-PARTICIPANT;PARTSTAT=ACCEPTED;RSVP=TRUE;CN="TRU Comm
 unity Care":https://www.mytowncolorado.com/profile/MariaThomas
END:VEVENT
END:VCALENDAR
