BEGIN:VCALENDAR
PRODID:NingEventWidget-v1
VERSION:2.0
METHOD:PUBLISH
BEGIN:VTIMEZONE
TZID:America/Denver
X-LIC-LOCATION:America/Denver
BEGIN:DAYLIGHT
TZOFFSETFROM:-0700
TZOFFSETTO:-0600
TZNAME:MDT
DTSTART:19700308T020000
RRULE:FREQ=YEARLY;BYMONTH=3;BYDAY=2SU
END:DAYLIGHT
BEGIN:STANDARD
TZOFFSETFROM:-0600
TZOFFSETTO:-0700
TZNAME:MST
DTSTART:19701101T020000
RRULE:FREQ=YEARLY;BYMONTH=11;BYDAY=1SU
END:STANDARD
END:VTIMEZONE
BEGIN:VEVENT
UID:2021996:Event:273533
DTSTAMP:20260421T044624Z
SUMMARY:PearlFlow with Live Music
DESCRIPTION:PearlFlow with Live MusicWith Laura + ClarkTuesday, May 21
  — 6:30pm-7:30pm\nDescription: Join Laura for a special Live Music P
 earlFlow class. Laura will be accompanied by local musician, Clark Car
 roll.\nThe live music brings a different feeling to your typical flow 
 class. The vibration of sound being projected is felt within the body 
 and hearing someone sing beyond the voice of the teacher is something 
 special. This class will be formatted as our signature PearlFlow class
  where you will roll through a series of flows, guided by pose and the
 n breath to movement.\n\nPrice: Included with Membership$27 Non-Member
 s\nPre-registration is suggested\n\nFor more information visit https:/
 /www.mytowncolorado.com/events/pearlflow-with-live-music-15
DTSTART;TZID=America/Denver:20240521T183000
DTEND;TZID=America/Denver:20240521T193000
CATEGORIES:live, music
LOCATION:Yoga Pearl
WEBSITE:https://clients.mindbodyonline.com/classic/ws?studioid=182708&
 amp;stype=-7&amp;sView=day&amp;sLoc=0&amp;sTrn=100000225&amp;date=05/2
 1/24
URL:https://clients.mindbodyonline.com/classic/ws?studioid=182708&amp;
 stype=-7&amp;sView=day&amp;sLoc=0&amp;sTrn=100000225&amp;date=05/21/24
CONTACT:
ORGANIZER;CN="Yoga Pearl":https://www.mytowncolorado.com/profile/YogaP
 earl
ATTACH;FMTTYPE="image/jpeg":https://storage.ning.com/topology/rest/1.0
 /file/get/12493838675?profile=original
ATTENDEE;ROLE=REQ-PARTICIPANT;PARTSTAT=ACCEPTED;RSVP=TRUE;CN="Yoga Pea
 rl":https://www.mytowncolorado.com/profile/YogaPearl
END:VEVENT
END:VCALENDAR
