BEGIN:VCALENDAR
PRODID:NingEventWidget-v1
VERSION:2.0
METHOD:PUBLISH
BEGIN:VTIMEZONE
TZID:America/Denver
X-LIC-LOCATION:America/Denver
BEGIN:DAYLIGHT
TZOFFSETFROM:-0700
TZOFFSETTO:-0600
TZNAME:MDT
DTSTART:19700308T020000
RRULE:FREQ=YEARLY;BYMONTH=3;BYDAY=2SU
END:DAYLIGHT
BEGIN:STANDARD
TZOFFSETFROM:-0600
TZOFFSETTO:-0700
TZNAME:MST
DTSTART:19701101T020000
RRULE:FREQ=YEARLY;BYMONTH=11;BYDAY=1SU
END:STANDARD
END:VTIMEZONE
BEGIN:VEVENT
UID:2021996:Event:273750
DTSTAMP:20260421T062433Z
SUMMARY:Pranayama+Meditation at Highland City Club Garden
DESCRIPTION:Pranayama+Meditation at Highland City Club GardenWith Cat 
 Monday, May 20 — 6:00pm-6:45pm\nDescription: Join Cat outside in the
  garden for a session of guided contemplation in celebration of Medita
 tion Month. We will begin with breathwork to let go of the day and rea
 dy ourselves for introspection then move into focused presence, suppor
 ted by the peaceful sensory experience of nature. This practice is sui
 table for those new to meditation and those with an established practi
 ce. Please feel welcome to bring any blankets, mats, or cushions that 
 will support you to sit or lay down for an extended period.\n\nPrice: 
 $27 Drop-inIncluded with Membership\nSpace is limited so pre-registrat
 ion is suggested\n\nFor more information visit https://www.mytowncolor
 ado.com/events/pranayama-meditation-at-highland-city-club-garden
DTSTART;TZID=America/Denver:20240520T180000
DTEND;TZID=America/Denver:20240520T184500
CATEGORIES:workshop
LOCATION:Highland City Club
WEBSITE:https://clients.mindbodyonline.com/classic/ws?studioid=182708&
 amp;stype=-7&amp;sView=day&amp;sLoc=0&amp;sTrn=100000116&amp;date=05/2
 0/24
URL:https://clients.mindbodyonline.com/classic/ws?studioid=182708&amp;
 stype=-7&amp;sView=day&amp;sLoc=0&amp;sTrn=100000116&amp;date=05/20/24
CONTACT:
ORGANIZER;CN="Yoga Pearl":https://www.mytowncolorado.com/profile/YogaP
 earl
ATTACH;FMTTYPE="image/jpeg":https://storage.ning.com/topology/rest/1.0
 /file/get/12494130655?profile=original
ATTENDEE;ROLE=REQ-PARTICIPANT;PARTSTAT=ACCEPTED;RSVP=TRUE;CN="Yoga Pea
 rl":https://www.mytowncolorado.com/profile/YogaPearl
END:VEVENT
END:VCALENDAR
