BEGIN:VCALENDAR
PRODID:NingEventWidget-v1
VERSION:2.0
METHOD:PUBLISH
BEGIN:VTIMEZONE
TZID:America/Denver
X-LIC-LOCATION:America/Denver
BEGIN:DAYLIGHT
TZOFFSETFROM:-0700
TZOFFSETTO:-0600
TZNAME:MDT
DTSTART:19700308T020000
RRULE:FREQ=YEARLY;BYMONTH=3;BYDAY=2SU
END:DAYLIGHT
BEGIN:STANDARD
TZOFFSETFROM:-0600
TZOFFSETTO:-0700
TZNAME:MST
DTSTART:19701101T020000
RRULE:FREQ=YEARLY;BYMONTH=11;BYDAY=1SU
END:STANDARD
END:VTIMEZONE
BEGIN:VEVENT
UID:2021996:Event:159402
DTSTAMP:20260420T073148Z
SUMMARY:Lafayette Quest - September 27, 2014
DESCRIPTION:Teams of 2-4 will strategize their way through a tradition
 al scavenger hunt by following clues, participating in healthy challen
 ges, and utilizing smart phone technology. Teams will check in at acti
 vity stations and perform silly human tricks to receive clues to get t
 hem to the next station and additional locations to earn more points.
   Prizes will be awarded to teams who finish first, accumulate the mo
 st points, and wear the best uniforms! For more information visit: Que
 st Scavenger Hunt\nWhat does it cost and how do I register:\n\nRemembe
 r -- 100% of all registration proceeds will be placed into the Youth S
 cholarship Fund!\nRegistration Fee is $20 per person ($25 for \"day of
 \" registration)\nOnline registration closes at 3:00pm on September 26
 , 2014\nIn person, DAY OF registration will run from 7:30-8:30am on S
 eptember 27 at the Bob L. Burger Inline Skate Rink\nRegister here\n\nE
 vent to benefit the Lafayette youth scholarship fund!\n\nFor more info
 rmation visit https://www.mytowncolorado.com/events/quest-scavenger-hu
 nt
DTSTART;TZID=America/Denver:20140927T090000
DTEND;TZID=America/Denver:20140927T110000
CATEGORIES:lafayette, benefit, scavenger, hunt
LOCATION:Bob L. Burger Recreation Center, Lafayette, Colorado
WEBSITE:http://www.cityoflafayette.com/index.aspx?NID=637
URL:http://www.cityoflafayette.com/index.aspx?NID=637
CONTACT:
ORGANIZER:Debbie Wilmont
ATTACH;FMTTYPE="image/jpeg":
ATTENDEE;ROLE=REQ-PARTICIPANT;PARTSTAT=ACCEPTED;RSVP=TRUE;CN="Matt Flo
 od":https://www.mytowncolorado.com/profile/MattFlood
END:VEVENT
END:VCALENDAR
