BEGIN:VCALENDAR
PRODID:NingEventWidget-v1
VERSION:2.0
METHOD:PUBLISH
BEGIN:VTIMEZONE
TZID:America/Denver
X-LIC-LOCATION:America/Denver
BEGIN:DAYLIGHT
TZOFFSETFROM:-0700
TZOFFSETTO:-0600
TZNAME:MDT
DTSTART:19700308T020000
RRULE:FREQ=YEARLY;BYMONTH=3;BYDAY=2SU
END:DAYLIGHT
BEGIN:STANDARD
TZOFFSETFROM:-0600
TZOFFSETTO:-0700
TZNAME:MST
DTSTART:19701101T020000
RRULE:FREQ=YEARLY;BYMONTH=11;BYDAY=1SU
END:STANDARD
END:VTIMEZONE
BEGIN:VEVENT
UID:2021996:Event:172627
DTSTAMP:20260421T025748Z
SUMMARY:Random Acts of Date Night: Murder Mystery
DESCRIPTION:An experiment in creating fun and connection.\nFor singles
  and couples of all identities.\nBECAUSE WE ALL NEED PERMISSION TO STO
 P WORKING SO HARD, STOP BEING SO PERFECT, AND JUST PLAY TOGETHER!\nWe 
 are building community centered around fun, authenticity, and connecti
 on.\n• Do you and your partner want to meet a new community that sup
 ports your relationship?\n• Are you single and loving every opportun
 ity to connect with lots of people, yet ready to create a tighter circ
 le?\n• Do you wish someone would plan a kickass Saturday night full 
 of laughter, surprises, and authentic community for you and 40 of your
  soon-to-be-friends?\n*The real date you get to go on is with yourself
  - in community.*\n\nWe believe that personal development and self tra
 nsformation don’t have to be painful. We believe that play and fun a
 re necessary ingredients for building a community with the resources t
 o dive into their deeper work together. From our reunion with play, we
  can remember who we are deep down. It’s from the place of being con
 nected to our true selves that we learn how to relate to others and th
 eir truth even more beautifully.\n\nMarch 26th is going to be a speci
 al Murder Mystery Event!\nThis means characters, costumes, and a myste
 ry to solve.\nhttp://photos4.meetupstatic.com/photos/event/b/0/a/b/600
 _447645227.jpeg\"/>\nWhat exactly is a murder mystery? click here!\nT
 here are only 20 spots available for our March 26th RAD Night becaus
 e there are only 20 characters in our game. We're already halfway sold
  out. So grab your tickets soon if you'd like to participate.\nThe gam
 e will take 2.5 hours, so as we balance between play and connection at
  these events, know that March is going to be mostly PLAY!\nRegister h
 ere to get your character now.\nSpaces are limited, it will require a 
 little more prep before the event, and we won't be selling tickets at 
 the door this month.\n\nYour hosts: Rachel Thor and Sarah Lila Oswa
 ld\nRachel Thor is an Inner Compass Coach, Wilderness Trip Guide, and 
 Experience Designer. From designing escape rooms to white water trips 
 to weekend workshops, Rachel’s creativity and flare for fun and unus
 ual adventures is her favorite way of helping others remember who they
  are at their core, from purpose, to passion, to partnership. See more
  at www.RachelThor.com\nSarah Lila Oswald is a Relationship Coach and
  Teacher of MatrixWorks: Groups as Living Systems. She serves those st
 ruggling in their romantic partnerships through her framework, Lead Y
 our Love Life and is committed to helping relationships not be painfu
 l. See more at www.sarahoswald.org\n\nFor more information visit http
 s://www.mytowncolorado.com/events/random-acts-of-date-night-murder-mys
 tery
DTSTART;TZID=America/Denver:20160326T183000
DTEND;TZID=America/Denver:20160326T213000
CATEGORIES:mystery, mixer
LOCATION:HoloWINC
WEBSITE:http://holobeing.com/event/random-acts-of-dating/2016-03-26/
URL:http://holobeing.com/event/random-acts-of-dating/2016-03-26/
CONTACT:9175205780
ORGANIZER:Sarah Oswald & Rachel Thor
ATTACH;FMTTYPE="image/jpeg":http://storage.ning.com/topology/rest/1.0/
 file/get/1051736371?profile=original
ATTENDEE;ROLE=REQ-PARTICIPANT;PARTSTAT=ACCEPTED;RSVP=TRUE;CN="Sarah Os
 wald":https://www.mytowncolorado.com/profile/SarahOswald
END:VEVENT
END:VCALENDAR
