BEGIN:VCALENDAR
PRODID:NingEventWidget-v1
VERSION:2.0
METHOD:PUBLISH
BEGIN:VTIMEZONE
TZID:America/Denver
X-LIC-LOCATION:America/Denver
BEGIN:DAYLIGHT
TZOFFSETFROM:-0700
TZOFFSETTO:-0600
TZNAME:MDT
DTSTART:19700308T020000
RRULE:FREQ=YEARLY;BYMONTH=3;BYDAY=2SU
END:DAYLIGHT
BEGIN:STANDARD
TZOFFSETFROM:-0600
TZOFFSETTO:-0700
TZNAME:MST
DTSTART:19701101T020000
RRULE:FREQ=YEARLY;BYMONTH=11;BYDAY=1SU
END:STANDARD
END:VTIMEZONE
BEGIN:VEVENT
UID:2021996:Event:277260
DTSTAMP:20260419T081204Z
SUMMARY:Riding the Waves of Early Motherhood: A 5-Week Journey for New
  Mothers
DESCRIPTION:Riding the Waves of Early Motherhood: A 5-Week Journey for
  New MothersWith Talia Gutin\nBegins Sunday, May 18 — 2:00pm-3:30pm\
 nMay 18, June 1, June 8, June 22, and June 29at Yoga Pearl North Bould
 er\nThe early years of motherhood bring profound changes.\nThis worksh
 op is designed specifically for new mothers (ideal for 0-5 years postp
 artum) who are navigating the emotional and personal shifts of this tr
 ansition and asking themselves:Who was I?Who am I now?Who am I becomin
 g?\n\nIn this workshop we will:\nAcknowledge & Honor Loss: Explore the
  emotional impact of leaving parts of ourselves behind and learn how t
 o acknowledge and validate these feelings.\nEmbrace Presence: Discover
  techniques to pause and reconnect with your inner self, creating a se
 nse of calm and clarity amidst the demands of motherhood.\nClarify You
 r Values: Reflect on the core principles that guide your mothering, he
 lping you parent with intention and purpose.\n\nBuild Community: Conne
 ct with other mothers for support and shared experiences, nurturing a 
 sense of belonging and connection.\nConnect with other mothers as we d
 elve into feelings of loss and disconnection from our former selves, t
 he challenges and importance of cultivating presence in our busy lives
 , and the journey toward intentional mothering. Above all, we will exp
 lore the sacredness of the mothering journey.\nPrice: $425 for a 5 Wee
 k Course\n\nFor more information visit https://www.mytowncolorado.com/
 events/riding-the-waves-of-early-motherhood-a-5-week-journey-for-new
DTSTART;TZID=America/Denver:20250518T140000
DTEND;TZID=America/Denver:20250518T153000
CATEGORIES:meet, up
LOCATION:Yoga Pearl North Boulder
WEBSITE:https://clients.mindbodyonline.com/classic/ws?studioid=182708&
 amp;stype=-8&amp;sView=day&amp;sLoc=2&amp;sTrn=100000297&amp;date=05/1
 8/25&amp;_gl=1*12pvbbi*_ga*NTY1MDI4ODIwLjE3MzM2OTE5NTY.*_ga_NXFP72P7HB
 *czE3NDcyNDUzMjQkbzIwMCRnMSR0MTc0NzI0NTMzNSRqMCRsMCRoMA
URL:https://clients.mindbodyonline.com/classic/ws?studioid=182708&amp;
 stype=-8&amp;sView=day&amp;sLoc=2&amp;sTrn=100000297&amp;date=05/18/25
 &amp;_gl=1*12pvbbi*_ga*NTY1MDI4ODIwLjE3MzM2OTE5NTY.*_ga_NXFP72P7HB*czE
 3NDcyNDUzMjQkbzIwMCRnMSR0MTc0NzI0NTMzNSRqMCRsMCRoMA
CONTACT:
ORGANIZER;CN="Yoga Pearl":https://www.mytowncolorado.com/profile/YogaP
 earl
ATTACH;FMTTYPE="image/jpeg":https://storage.ning.com/topology/rest/1.0
 /file/get/13554821255?profile=original
ATTENDEE;ROLE=REQ-PARTICIPANT;PARTSTAT=ACCEPTED;RSVP=TRUE;CN="Yoga Pea
 rl":https://www.mytowncolorado.com/profile/YogaPearl
END:VEVENT
END:VCALENDAR
