BEGIN:VCALENDAR
PRODID:NingEventWidget-v1
VERSION:2.0
METHOD:PUBLISH
BEGIN:VTIMEZONE
TZID:America/Denver
X-LIC-LOCATION:America/Denver
BEGIN:DAYLIGHT
TZOFFSETFROM:-0700
TZOFFSETTO:-0600
TZNAME:MDT
DTSTART:19700308T020000
RRULE:FREQ=YEARLY;BYMONTH=3;BYDAY=2SU
END:DAYLIGHT
BEGIN:STANDARD
TZOFFSETFROM:-0600
TZOFFSETTO:-0700
TZNAME:MST
DTSTART:19701101T020000
RRULE:FREQ=YEARLY;BYMONTH=11;BYDAY=1SU
END:STANDARD
END:VTIMEZONE
BEGIN:VEVENT
UID:2021996:Event:176474
DTSTAMP:20260420T200104Z
SUMMARY:Scavenger Hunt & HOOK
DESCRIPTION:Join us at 1:00pm at The Art Underground in Downtown Louis
 ville. Make you way  through Louisville scavenging 10 different  loc
 ations along the way to the 2:00pm Movie showing of HOOK at the Louisv
 ille Center for the arts. \nFree event for the entire family !\nOnly 
 first 70 pirates to reach the arts center will be able to see the movi
 e\ncall 720-879-2290 for more information \n\nFor more information vi
 sit https://www.mytowncolorado.com/events/scavenger-hunt-hook
DTSTART;TZID=America/Denver:20161008T130000
DTEND;TZID=America/Denver:20161008T170000
CATEGORIES:family, fun
LOCATION:The Art Underground
WEBSITE:http://www.artunder.org
URL:http://www.artunder.org
CONTACT:303 229-1127
ORGANIZER:Lori Jones
ATTACH;FMTTYPE="image/jpeg":http://storage.ning.com/topology/rest/1.0/
 file/get/1051748173?profile=original
ATTENDEE;ROLE=REQ-PARTICIPANT;PARTSTAT=ACCEPTED;RSVP=TRUE;CN="priscill
 a Slocum Lacy":https://www.mytowncolorado.com/profile/priscillaSlocumL
 acy
END:VEVENT
END:VCALENDAR
