BEGIN:VCALENDAR
PRODID:NingEventWidget-v1
VERSION:2.0
METHOD:PUBLISH
BEGIN:VTIMEZONE
TZID:America/Denver
X-LIC-LOCATION:America/Denver
BEGIN:DAYLIGHT
TZOFFSETFROM:-0700
TZOFFSETTO:-0600
TZNAME:MDT
DTSTART:19700308T020000
RRULE:FREQ=YEARLY;BYMONTH=3;BYDAY=2SU
END:DAYLIGHT
BEGIN:STANDARD
TZOFFSETFROM:-0600
TZOFFSETTO:-0700
TZNAME:MST
DTSTART:19701101T020000
RRULE:FREQ=YEARLY;BYMONTH=11;BYDAY=1SU
END:STANDARD
END:VTIMEZONE
BEGIN:VEVENT
UID:2021996:Event:160125
DTSTAMP:20260420T094446Z
SUMMARY:Shine: A Celebration of Amazing Women
DESCRIPTION:Women's Wilderness is looking forward to showing appreciat
 ion towards the members of our community who help make it possible for
  girls to step up and meet the challenges ahead of them. Join us on Oc
 tober 23rd as we gather with our community to celebrate the past 17 ye
 ars! Our Shine celebration is free to attend; light appetizers will b
 e provided as well as a cash bar. Along with your RSVP by October 20,
  you will receive a free raffle and drink ticket.\n\nFor more informat
 ion visit https://www.mytowncolorado.com/events/shine-a-celebration-of
 -amazing-women
DTSTART;TZID=America/Denver:20141023T173000
DTEND;TZID=America/Denver:20141023T193000
CATEGORIES:celebration, fundraiser
LOCATION:Rembrandt Yard
WEBSITE:https://www.womenswilderness.org/shine
URL:https://www.womenswilderness.org/shine
CONTACT:303-938-9191
ORGANIZER;CN="The Women's Wilderness Institute":https://www.mytowncolo
 rado.com/profile/TheWomensWildernessInstitute
ATTACH;FMTTYPE="image/jpeg":
ATTENDEE;ROLE=REQ-PARTICIPANT;PARTSTAT=ACCEPTED;RSVP=TRUE;CN="The Wome
 n's Wilderness Institute":https://www.mytowncolorado.com/profile/TheWo
 mensWildernessInstitute
END:VEVENT
END:VCALENDAR
