BEGIN:VCALENDAR
PRODID:NingEventWidget-v1
VERSION:2.0
METHOD:PUBLISH
BEGIN:VTIMEZONE
TZID:America/Denver
X-LIC-LOCATION:America/Denver
BEGIN:DAYLIGHT
TZOFFSETFROM:-0700
TZOFFSETTO:-0600
TZNAME:MDT
DTSTART:19700308T020000
RRULE:FREQ=YEARLY;BYMONTH=3;BYDAY=2SU
END:DAYLIGHT
BEGIN:STANDARD
TZOFFSETFROM:-0600
TZOFFSETTO:-0700
TZNAME:MST
DTSTART:19701101T020000
RRULE:FREQ=YEARLY;BYMONTH=11;BYDAY=1SU
END:STANDARD
END:VTIMEZONE
BEGIN:VEVENT
UID:2021996:Event:177354
DTSTAMP:20260421T031542Z
SUMMARY:Shrek Jr
DESCRIPTION:Performances: Friday, November 11 @ 7pm Saturday, November
  12 @ 2pm & 7pm Sunday, November 13 @ 2pm & 7pm Tickets: $8 all ages\n
 Grades: 4th-8th\nBeauty is in the eye of the ogre in Shrek The Musical
  JR., based on the Oscar-winning DreamWorks Animation film and fantast
 ic Broadway musical. It’s a “big bright beautiful world” as ever
 yone’s favorite ogre, Shrek, leads a cast of fairytale misfits on an
  adventure to rescue a princess and find true acceptance. Part romance
  and part twisted fairy tale, Shrek JR. is an irreverently fun show wi
 th a powerful message for the whole family.\nDirector: Benjamin Shoen
 berger Choreographer: Jessica Page\n\nFor more information visit http
 s://www.mytowncolorado.com/events/shrek-jr
DTSTART;TZID=America/Denver:20161111T190000
DTEND;TZID=America/Denver:20161113T190000
CATEGORIES:theater, performance, youth
LOCATION:The Arts Hub
WEBSITE:http://www.artunder.org
URL:http://www.artunder.org
CONTACT:303 229-1127
ORGANIZER;CN="priscilla Slocum Lacy":https://www.mytowncolorado.com/pr
 ofile/priscillaSlocumLacy
ATTACH;FMTTYPE="image/jpeg":http://storage.ning.com/topology/rest/1.0/
 file/get/1051745701?profile=original
ATTENDEE;ROLE=REQ-PARTICIPANT;PARTSTAT=ACCEPTED;RSVP=TRUE;CN="priscill
 a Slocum Lacy":https://www.mytowncolorado.com/profile/priscillaSlocumL
 acy
END:VEVENT
END:VCALENDAR
