BEGIN:VCALENDAR
PRODID:NingEventWidget-v1
VERSION:2.0
METHOD:PUBLISH
BEGIN:VTIMEZONE
TZID:America/Denver
X-LIC-LOCATION:America/Denver
BEGIN:DAYLIGHT
TZOFFSETFROM:-0700
TZOFFSETTO:-0600
TZNAME:MDT
DTSTART:19700308T020000
RRULE:FREQ=YEARLY;BYMONTH=3;BYDAY=2SU
END:DAYLIGHT
BEGIN:STANDARD
TZOFFSETFROM:-0600
TZOFFSETTO:-0700
TZNAME:MST
DTSTART:19701101T020000
RRULE:FREQ=YEARLY;BYMONTH=11;BYDAY=1SU
END:STANDARD
END:VTIMEZONE
BEGIN:VEVENT
UID:2021996:Event:162752
DTSTAMP:20260419T230624Z
SUMMARY:Ski to Defeat ALS
DESCRIPTION:The Ski to Defeat ALS is a one-day ski event, on February
  22nd, designed to appeal to every level of skier/snowboarder. Partici
 pants are free to ski 1 run or 100 runs! A complimentary lunch and wil
 l be provided, and awards will be given to the Top Individual Fundrais
 er, Top Fundraising Team, and Best Costume!\nRegistration for the even
 t is $60, which includes an all-day lift ticket, lunch, snacks and bev
 erages throughout the day. Each participant is requested to raise a mi
 nimum of $150. Registration/check-in begins at 9:00 a.m. and the lifts
  will close at 3:00 p.m. A limited number of persons living with ALS w
 ill have the opportunity to ski with family and friends, thanks in par
 t to Ignite Adaptive Sports.\nAll proceeds will support The ALS Associ
 ation Rocky Mountain Chapter, funding comprehensive care services for 
 persons living with ALS and their families in Colorado and Wyoming, al
 l of which are provided free of charge by the chapter, as well as glob
 al research to find a cure.\n\nFor more information visit https://www.
 mytowncolorado.com/events/ski-to-defeat-als
DTSTART;TZID=America/Denver:20150222T090000
DTEND;TZID=America/Denver:20150222T150000
CATEGORIES:fundraiser, ski, snowboarding
LOCATION:Eldora Ski Resort Lodge
WEBSITE:http://webco.alsa.org/site/TR?sid=8531&type=fr_informational&p
 g=informational&fr_id=10720
URL:http://webco.alsa.org/site/TR?sid=8531&type=fr_informational&pg=in
 formational&fr_id=10720
CONTACT:303.832.2322
ORGANIZER:The ALS Association Rocky Mountain Chapter
ATTACH;FMTTYPE="image/jpeg":http://storage.ning.com/topology/rest/1.0/
 file/get/1051721087?profile=original
ATTENDEE;ROLE=REQ-PARTICIPANT;PARTSTAT=ACCEPTED;RSVP=TRUE;CN="Beatrix 
 Kamoen":https://www.mytowncolorado.com/profile/BeatrixKamoen
END:VEVENT
END:VCALENDAR
