BEGIN:VCALENDAR
PRODID:NingEventWidget-v1
VERSION:2.0
METHOD:PUBLISH
BEGIN:VTIMEZONE
TZID:America/Denver
X-LIC-LOCATION:America/Denver
BEGIN:DAYLIGHT
TZOFFSETFROM:-0700
TZOFFSETTO:-0600
TZNAME:MDT
DTSTART:19700308T020000
RRULE:FREQ=YEARLY;BYMONTH=3;BYDAY=2SU
END:DAYLIGHT
BEGIN:STANDARD
TZOFFSETFROM:-0600
TZOFFSETTO:-0700
TZNAME:MST
DTSTART:19701101T020000
RRULE:FREQ=YEARLY;BYMONTH=11;BYDAY=1SU
END:STANDARD
END:VTIMEZONE
BEGIN:VEVENT
UID:2021996:Event:161160
DTSTAMP:20260420T064225Z
SUMMARY:Sneak Preview Screenings of The Last Avatar
DESCRIPTION:\nSneak Preview Screenings E-TOWN Hall—Boulder, Colorado
 \nDecember 6th and 7th and December 13th and 14th\nShowtimes at 2pm, 4
 :30pm and 7pm—Tickets $10 www.etown.org\n\n\n\n\nFor more informatio
 n visit https://www.mytowncolorado.com/events/sneak-preview-screenings
 -of-the-last-avatar
DTSTART;TZID=America/Denver:20141206T140000
DTEND;TZID=America/Denver:20141206T210000
CATEGORIES:film
LOCATION:Etown Hall
WEBSITE:http://www.etown.org/events/last-avatar-feature-film-sneak-pre
 view-screenings-dec-6th-7th-2014/
URL:http://www.etown.org/events/last-avatar-feature-film-sneak-preview
 -screenings-dec-6th-7th-2014/
CONTACT:719-588-9020
ORGANIZER;CN="Amy Myszko":https://www.mytowncolorado.com/profile/AmyMy
 szko
ATTACH;FMTTYPE="image/jpeg":http://storage.ning.com/topology/rest/1.0/
 file/get/1051720312?profile=original
ATTENDEE;ROLE=REQ-PARTICIPANT;PARTSTAT=ACCEPTED;RSVP=TRUE;CN="Amy Mysz
 ko":https://www.mytowncolorado.com/profile/AmyMyszko
END:VEVENT
END:VCALENDAR
