BEGIN:VCALENDAR
PRODID:NingEventWidget-v1
VERSION:2.0
METHOD:PUBLISH
BEGIN:VTIMEZONE
TZID:America/Denver
X-LIC-LOCATION:America/Denver
BEGIN:DAYLIGHT
TZOFFSETFROM:-0700
TZOFFSETTO:-0600
TZNAME:MDT
DTSTART:19700308T020000
RRULE:FREQ=YEARLY;BYMONTH=3;BYDAY=2SU
END:DAYLIGHT
BEGIN:STANDARD
TZOFFSETFROM:-0600
TZOFFSETTO:-0700
TZNAME:MST
DTSTART:19701101T020000
RRULE:FREQ=YEARLY;BYMONTH=11;BYDAY=1SU
END:STANDARD
END:VTIMEZONE
BEGIN:VEVENT
UID:2021996:Event:162546
DTSTAMP:20260420T004635Z
SUMMARY:Something Different- A Conscious Comedy Show
DESCRIPTION:\"Something Different\" is a Conscious Comedy Show by Los 
 Angeles Comedian, Katie Rubin.  Katie is the Queen of Spiritual Stand
  Up.  She pokes sharp, smart, dark fun at all things white, soft and
  flowy.  She also LOVES all things white soft and flowy which allows 
 her to carry her sharp comedic stick with love (twisted, sexy, lower-s
 elf love).  From \"dating spiritual dudes\" to all the ways she is a 
 \"bad hippie,\" Katie takes the spirit realm ON and has you doubled o
 ver while she does it.\n \nMarch 6th. The Dairy Center. Boulder, CO\n
 $20 AHEAD OF TIME.  $25 AT THE DOOR.\n March 14th. ActAsana. Denver,
  CO\n$20 AHEAD OF TIME.  $25 AT THE DOOR.\nFor tickets:\nhttp://www.k
 atierubin.com/index.php/shows/something-different\n \n\n \n\nFor mor
 e information visit https://www.mytowncolorado.com/events/something-di
 fferent-a-conscious-comedy-show
DTSTART;TZID=America/Denver:20150306T200000
DTEND;TZID=America/Denver:20150314T190000
CATEGORIES:comedy, show
LOCATION:3/6- The Dairy Center Boulder 3/14 ActAsana Denver
WEBSITE:http://www.katierubin.com/index.php/shows/something-different
URL:http://www.katierubin.com/index.php/shows/something-different
CONTACT:
ORGANIZER;CN="Boulder Fringe Festival":https://www.mytowncolorado.com/
 profile/BoulderFringeFestival
ATTACH;FMTTYPE="image/jpeg":
ATTENDEE;ROLE=REQ-PARTICIPANT;PARTSTAT=ACCEPTED;RSVP=TRUE;CN="Boulder 
 Fringe Festival":https://www.mytowncolorado.com/profile/BoulderFringeF
 estival
END:VEVENT
END:VCALENDAR
