BEGIN:VCALENDAR
PRODID:NingEventWidget-v1
VERSION:2.0
METHOD:PUBLISH
BEGIN:VTIMEZONE
TZID:America/Denver
X-LIC-LOCATION:America/Denver
BEGIN:DAYLIGHT
TZOFFSETFROM:-0700
TZOFFSETTO:-0600
TZNAME:MDT
DTSTART:19700308T020000
RRULE:FREQ=YEARLY;BYMONTH=3;BYDAY=2SU
END:DAYLIGHT
BEGIN:STANDARD
TZOFFSETFROM:-0600
TZOFFSETTO:-0700
TZNAME:MST
DTSTART:19701101T020000
RRULE:FREQ=YEARLY;BYMONTH=11;BYDAY=1SU
END:STANDARD
END:VTIMEZONE
BEGIN:VEVENT
UID:2021996:Event:160581
DTSTAMP:20260420T094323Z
SUMMARY:Square State Skate's All-You-Can-Skate Smorgasbord
DESCRIPTION:Spend your Fall Break with Square State Skate. Spend 3 day
 s with an elite crew of goofballs! Jump on our “Skate Bus” and tra
 vel to check out different skateboard destinations including parks and
  skate shops. Learn how to be safe and have fun & explore skateboardin
 g like you never before! \n\nEquipment or supplies needed: Skateboard,
  helmet (other pads recommended), a healthy lunch, water bottle, sunsc
 reen and some energy.\n\nFor more information visit https://www.mytown
 colorado.com/events/square-state-skate-s-all-you-can-skate-smorgasbord
DTSTART;TZID=America/Denver:20141126T083000
DTEND;TZID=America/Denver:20141126T153000
CATEGORIES:"school's", out, camp
LOCATION:Lafayette Skatepark
WEBSITE:http://www.cityoflafayette.com/recreation
URL:http://www.cityoflafayette.com/recreation
CONTACT:303-665-0469
ORGANIZER;CN="Lafayette Recreation Dept":https://www.mytowncolorado.co
 m/profile/DebbieWilmot
ATTACH;FMTTYPE="image/jpeg":
ATTENDEE;ROLE=REQ-PARTICIPANT;PARTSTAT=ACCEPTED;RSVP=TRUE;CN="Lafayett
 e Recreation Dept":https://www.mytowncolorado.com/profile/DebbieWilmot
END:VEVENT
END:VCALENDAR
