BEGIN:VCALENDAR
PRODID:NingEventWidget-v1
VERSION:2.0
METHOD:PUBLISH
BEGIN:VTIMEZONE
TZID:America/Denver
X-LIC-LOCATION:America/Denver
BEGIN:DAYLIGHT
TZOFFSETFROM:-0700
TZOFFSETTO:-0600
TZNAME:MDT
DTSTART:19700308T020000
RRULE:FREQ=YEARLY;BYMONTH=3;BYDAY=2SU
END:DAYLIGHT
BEGIN:STANDARD
TZOFFSETFROM:-0600
TZOFFSETTO:-0700
TZNAME:MST
DTSTART:19701101T020000
RRULE:FREQ=YEARLY;BYMONTH=11;BYDAY=1SU
END:STANDARD
END:VTIMEZONE
BEGIN:VEVENT
UID:2021996:Event:163908
DTSTAMP:20260420T010313Z
SUMMARY:Summer Camps Fair
DESCRIPTION:\nThe Daily Camera @ Broomfield Enterprise in conjunction 
 with the American Camp Association, will present a FREE Summer Camps F
 air to help parents with their summer camp plans.  Saturday, March 14
 th, 10 a.m. to 2 p.m.Free Activities for Kids!\nFor more information v
 isit www.dailycamera.com/summercamps\n\nFor more information visit htt
 ps://www.mytowncolorado.com/events/summer-camps-2015
DTSTART;TZID=America/Denver:20150314T100000
DTEND;TZID=America/Denver:20150314T140000
CATEGORIES:summer, camps, fair
LOCATION:East Boulder County Community Ceneter
WEBSITE:http://www.dailycamera.com/summercamps
URL:http://www.dailycamera.com/summercamps
CONTACT:303-473-1400
ORGANIZER:Daily Camera
ATTACH;FMTTYPE="image/jpeg":
ATTENDEE;ROLE=REQ-PARTICIPANT;PARTSTAT=ACCEPTED;RSVP=TRUE;CN="Alan Cra
 ndall":https://www.mytowncolorado.com/profile/AlanCrandall
END:VEVENT
END:VCALENDAR
