BEGIN:VCALENDAR
PRODID:NingEventWidget-v1
VERSION:2.0
METHOD:PUBLISH
BEGIN:VTIMEZONE
TZID:America/Denver
X-LIC-LOCATION:America/Denver
BEGIN:DAYLIGHT
TZOFFSETFROM:-0700
TZOFFSETTO:-0600
TZNAME:MDT
DTSTART:19700308T020000
RRULE:FREQ=YEARLY;BYMONTH=3;BYDAY=2SU
END:DAYLIGHT
BEGIN:STANDARD
TZOFFSETFROM:-0600
TZOFFSETTO:-0700
TZNAME:MST
DTSTART:19701101T020000
RRULE:FREQ=YEARLY;BYMONTH=11;BYDAY=1SU
END:STANDARD
END:VTIMEZONE
BEGIN:VEVENT
UID:2021996:Event:273718
DTSTAMP:20260419T080735Z
SUMMARY:Summer Solstice at the Sunrise Amphitheater
DESCRIPTION:Summer Solstice at the Sunrise Amphitheater  Thursday, Jun
 e 20 — 6:30am-8:00pm\nDescription: Join Yoga Pearl for a special Sum
 mer Solstice event at the Sunrise Amphitheater.\nYou will be lead thro
 ugh a Sunrise PearlFlow with live music from 6:30-7:30am followed by a
  savasana sound bath with Valerie Weyrich. After class stop by our ven
 dors, grab your complimentary breakfast, coffee + tea!\n*Mat rentals a
 nd access to water will not be available. Please plan accordingly and 
 reach out with any questions.\nParking: Parking is limited at the amph
 itheater. Please consider carpooling with a friend. If you would like 
 a ride from studio staff please email us at info@yogapearl.com\nSponso
 rs: Suti & Co. and The Scout Guide\n*If you are interested in being a 
 vendor or would like to contribute to the event in some way please ema
 il alyse@yogapearl.com\nPrice:  $35 for Members $55 for Non-Members\n\
 nFor more information visit https://www.mytowncolorado.com/events/summ
 er-solstice-at-the-sunrise-amphitheater
DTSTART;TZID=America/Denver:20240620T063000
DTEND;TZID=America/Denver:20240620T080000
CATEGORIES:community, event
LOCATION:Sunrise Amphitheater
WEBSITE:https://clients.mindbodyonline.com/classic/ws?studioid=182708&
 amp;amp;stype=-7&amp;amp;sView=day&amp;amp;sLoc=0&amp;amp;sTrn=1000002
 20&amp;amp;date=06/20/24
URL:https://clients.mindbodyonline.com/classic/ws?studioid=182708&amp;
 amp;stype=-7&amp;amp;sView=day&amp;amp;sLoc=0&amp;amp;sTrn=100000220&a
 mp;amp;date=06/20/24
CONTACT:
ORGANIZER;CN="Yoga Pearl":https://www.mytowncolorado.com/profile/YogaP
 earl
ATTACH;FMTTYPE="image/jpeg":https://storage.ning.com/topology/rest/1.0
 /file/get/12633694254?profile=original
ATTENDEE;ROLE=REQ-PARTICIPANT;PARTSTAT=ACCEPTED;RSVP=TRUE;CN="Yoga Pea
 rl":https://www.mytowncolorado.com/profile/YogaPearl
END:VEVENT
END:VCALENDAR
